BEGIN:VCALENDAR
VERSION:2.0
PRODID:-//St. Philip The Deacon - ECPv6.15.18//NONSGML v1.0//EN
CALSCALE:GREGORIAN
METHOD:PUBLISH
X-WR-CALNAME:St. Philip The Deacon
X-ORIGINAL-URL:https://spdlc.org
X-WR-CALDESC:Events for St. Philip The Deacon
REFRESH-INTERVAL;VALUE=DURATION:PT1H
X-Robots-Tag:noindex
X-PUBLISHED-TTL:PT1H
BEGIN:VTIMEZONE
TZID:America/Chicago
BEGIN:DAYLIGHT
TZOFFSETFROM:-0600
TZOFFSETTO:-0500
TZNAME:CDT
DTSTART:20280312T080000
END:DAYLIGHT
BEGIN:STANDARD
TZOFFSETFROM:-0500
TZOFFSETTO:-0600
TZNAME:CST
DTSTART:20281105T070000
END:STANDARD
BEGIN:DAYLIGHT
TZOFFSETFROM:-0600
TZOFFSETTO:-0500
TZNAME:CDT
DTSTART:20290311T080000
END:DAYLIGHT
BEGIN:STANDARD
TZOFFSETFROM:-0500
TZOFFSETTO:-0600
TZNAME:CST
DTSTART:20291104T070000
END:STANDARD
BEGIN:DAYLIGHT
TZOFFSETFROM:-0600
TZOFFSETTO:-0500
TZNAME:CDT
DTSTART:20300310T080000
END:DAYLIGHT
BEGIN:STANDARD
TZOFFSETFROM:-0500
TZOFFSETTO:-0600
TZNAME:CST
DTSTART:20301103T070000
END:STANDARD
END:VTIMEZONE
BEGIN:VEVENT
DTSTART;TZID=America/Chicago:20290422T081500
DTEND;TZID=America/Chicago:20290422T091500
DTSTAMP:20260421T060143
CREATED:20250420T040340Z
LAST-MODIFIED:20250420T041016Z
UID:10013232-1871540100-1871543700@spdlc.org
SUMMARY:Worship at 8:15 a.m.
DESCRIPTION:Sunday – 8:15 a.m. Join us for a traditional worship service.
URL:https://spdlc.org/event/worship-815-2/2029-04-22/
LOCATION:St. Philip the Deacon Lutheran Church\, 17205 County Road 6\, Plymouth\, MN\, 55447\, United States
CATEGORIES:Worship
GEO:44.994703;-93.497968
X-APPLE-STRUCTURED-LOCATION;VALUE=URI;X-ADDRESS=St. Philip the Deacon Lutheran Church 17205 County Road 6 Plymouth MN 55447 United States;X-APPLE-RADIUS=500;X-TITLE=17205 County Road 6:geo:-93.497968,44.994703
END:VEVENT
BEGIN:VEVENT
DTSTART;TZID=America/Chicago:20290425T130000
DTEND;TZID=America/Chicago:20290425T140000
DTSTAMP:20260421T060143
CREATED:20171226T213856Z
LAST-MODIFIED:20250305T191851Z
UID:10012115-1871816400-1871820000@spdlc.org
SUMMARY:Caregiver's Support Group
DESCRIPTION:A mutual support group and respite time for those who are providing personal nursing care for a spouse or family member at home. \nThe SPD Caregiver’s Support Group is meeting regularly in the Fireside Room Wednesdays at 1 p.m. If you are caring for a loved one and would like the support of others with shared experiences\, please join the group! 
URL:https://spdlc.org/event/caregivers/2029-04-25/
LOCATION:St. Philip the Deacon Lutheran Church\, 17205 County Road 6\, Plymouth\, MN\, 55447\, United States
CATEGORIES:Adults
GEO:44.994703;-93.497968
X-APPLE-STRUCTURED-LOCATION;VALUE=URI;X-ADDRESS=St. Philip the Deacon Lutheran Church 17205 County Road 6 Plymouth MN 55447 United States;X-APPLE-RADIUS=500;X-TITLE=17205 County Road 6:geo:-93.497968,44.994703
END:VEVENT
BEGIN:VEVENT
DTSTART;TZID=America/Chicago:20290429T081500
DTEND;TZID=America/Chicago:20290429T091500
DTSTAMP:20260421T060143
CREATED:20170830T211659Z
LAST-MODIFIED:20250420T040611Z
UID:10013494-1872144900-1872148500@spdlc.org
SUMMARY:Worship at 8:15 a.m.
DESCRIPTION:Sunday – 8:15 a.m. Join us for a traditional worship service.
URL:https://spdlc.org/event/worship-815/2029-04-29/
LOCATION:St. Philip the Deacon Lutheran Church\, 17205 County Road 6\, Plymouth\, MN\, 55447\, United States
CATEGORIES:Worship
GEO:44.994703;-93.497968
X-APPLE-STRUCTURED-LOCATION;VALUE=URI;X-ADDRESS=St. Philip the Deacon Lutheran Church 17205 County Road 6 Plymouth MN 55447 United States;X-APPLE-RADIUS=500;X-TITLE=17205 County Road 6:geo:-93.497968,44.994703
END:VEVENT
BEGIN:VEVENT
DTSTART;TZID=America/Chicago:20290429T081500
DTEND;TZID=America/Chicago:20290429T091500
DTSTAMP:20260421T060143
CREATED:20250420T040340Z
LAST-MODIFIED:20250420T041016Z
UID:10013233-1872144900-1872148500@spdlc.org
SUMMARY:Worship at 8:15 a.m.
DESCRIPTION:Sunday – 8:15 a.m. Join us for a traditional worship service.
URL:https://spdlc.org/event/worship-815-2/2029-04-29/
LOCATION:St. Philip the Deacon Lutheran Church\, 17205 County Road 6\, Plymouth\, MN\, 55447\, United States
CATEGORIES:Worship
GEO:44.994703;-93.497968
X-APPLE-STRUCTURED-LOCATION;VALUE=URI;X-ADDRESS=St. Philip the Deacon Lutheran Church 17205 County Road 6 Plymouth MN 55447 United States;X-APPLE-RADIUS=500;X-TITLE=17205 County Road 6:geo:-93.497968,44.994703
END:VEVENT
BEGIN:VEVENT
DTSTART;TZID=America/Chicago:20290502T130000
DTEND;TZID=America/Chicago:20290502T140000
DTSTAMP:20260421T060143
CREATED:20171226T213856Z
LAST-MODIFIED:20250305T191851Z
UID:10012116-1872421200-1872424800@spdlc.org
SUMMARY:Caregiver's Support Group
DESCRIPTION:A mutual support group and respite time for those who are providing personal nursing care for a spouse or family member at home. \nThe SPD Caregiver’s Support Group is meeting regularly in the Fireside Room Wednesdays at 1 p.m. If you are caring for a loved one and would like the support of others with shared experiences\, please join the group! 
URL:https://spdlc.org/event/caregivers/2029-05-02/
LOCATION:St. Philip the Deacon Lutheran Church\, 17205 County Road 6\, Plymouth\, MN\, 55447\, United States
CATEGORIES:Adults
GEO:44.994703;-93.497968
X-APPLE-STRUCTURED-LOCATION;VALUE=URI;X-ADDRESS=St. Philip the Deacon Lutheran Church 17205 County Road 6 Plymouth MN 55447 United States;X-APPLE-RADIUS=500;X-TITLE=17205 County Road 6:geo:-93.497968,44.994703
END:VEVENT
BEGIN:VEVENT
DTSTART;TZID=America/Chicago:20290506T081500
DTEND;TZID=America/Chicago:20290506T091500
DTSTAMP:20260421T060143
CREATED:20170830T211659Z
LAST-MODIFIED:20250420T040611Z
UID:10013495-1872749700-1872753300@spdlc.org
SUMMARY:Worship at 8:15 a.m.
DESCRIPTION:Sunday – 8:15 a.m. Join us for a traditional worship service.
URL:https://spdlc.org/event/worship-815/2029-05-06/
LOCATION:St. Philip the Deacon Lutheran Church\, 17205 County Road 6\, Plymouth\, MN\, 55447\, United States
CATEGORIES:Worship
GEO:44.994703;-93.497968
X-APPLE-STRUCTURED-LOCATION;VALUE=URI;X-ADDRESS=St. Philip the Deacon Lutheran Church 17205 County Road 6 Plymouth MN 55447 United States;X-APPLE-RADIUS=500;X-TITLE=17205 County Road 6:geo:-93.497968,44.994703
END:VEVENT
BEGIN:VEVENT
DTSTART;TZID=America/Chicago:20290506T081500
DTEND;TZID=America/Chicago:20290506T091500
DTSTAMP:20260421T060143
CREATED:20250420T040340Z
LAST-MODIFIED:20250420T041016Z
UID:10013234-1872749700-1872753300@spdlc.org
SUMMARY:Worship at 8:15 a.m.
DESCRIPTION:Sunday – 8:15 a.m. Join us for a traditional worship service.
URL:https://spdlc.org/event/worship-815-2/2029-05-06/
LOCATION:St. Philip the Deacon Lutheran Church\, 17205 County Road 6\, Plymouth\, MN\, 55447\, United States
CATEGORIES:Worship
GEO:44.994703;-93.497968
X-APPLE-STRUCTURED-LOCATION;VALUE=URI;X-ADDRESS=St. Philip the Deacon Lutheran Church 17205 County Road 6 Plymouth MN 55447 United States;X-APPLE-RADIUS=500;X-TITLE=17205 County Road 6:geo:-93.497968,44.994703
END:VEVENT
BEGIN:VEVENT
DTSTART;TZID=America/Chicago:20290509T130000
DTEND;TZID=America/Chicago:20290509T140000
DTSTAMP:20260421T060143
CREATED:20171226T213856Z
LAST-MODIFIED:20250305T191851Z
UID:10012117-1873026000-1873029600@spdlc.org
SUMMARY:Caregiver's Support Group
DESCRIPTION:A mutual support group and respite time for those who are providing personal nursing care for a spouse or family member at home. \nThe SPD Caregiver’s Support Group is meeting regularly in the Fireside Room Wednesdays at 1 p.m. If you are caring for a loved one and would like the support of others with shared experiences\, please join the group! 
URL:https://spdlc.org/event/caregivers/2029-05-09/
LOCATION:St. Philip the Deacon Lutheran Church\, 17205 County Road 6\, Plymouth\, MN\, 55447\, United States
CATEGORIES:Adults
GEO:44.994703;-93.497968
X-APPLE-STRUCTURED-LOCATION;VALUE=URI;X-ADDRESS=St. Philip the Deacon Lutheran Church 17205 County Road 6 Plymouth MN 55447 United States;X-APPLE-RADIUS=500;X-TITLE=17205 County Road 6:geo:-93.497968,44.994703
END:VEVENT
BEGIN:VEVENT
DTSTART;TZID=America/Chicago:20290513T081500
DTEND;TZID=America/Chicago:20290513T091500
DTSTAMP:20260421T060143
CREATED:20170830T211659Z
LAST-MODIFIED:20250420T040611Z
UID:10013496-1873354500-1873358100@spdlc.org
SUMMARY:Worship at 8:15 a.m.
DESCRIPTION:Sunday – 8:15 a.m. Join us for a traditional worship service.
URL:https://spdlc.org/event/worship-815/2029-05-13/
LOCATION:St. Philip the Deacon Lutheran Church\, 17205 County Road 6\, Plymouth\, MN\, 55447\, United States
CATEGORIES:Worship
GEO:44.994703;-93.497968
X-APPLE-STRUCTURED-LOCATION;VALUE=URI;X-ADDRESS=St. Philip the Deacon Lutheran Church 17205 County Road 6 Plymouth MN 55447 United States;X-APPLE-RADIUS=500;X-TITLE=17205 County Road 6:geo:-93.497968,44.994703
END:VEVENT
BEGIN:VEVENT
DTSTART;TZID=America/Chicago:20290513T081500
DTEND;TZID=America/Chicago:20290513T091500
DTSTAMP:20260421T060143
CREATED:20250420T040340Z
LAST-MODIFIED:20250420T041016Z
UID:10013235-1873354500-1873358100@spdlc.org
SUMMARY:Worship at 8:15 a.m.
DESCRIPTION:Sunday – 8:15 a.m. Join us for a traditional worship service.
URL:https://spdlc.org/event/worship-815-2/2029-05-13/
LOCATION:St. Philip the Deacon Lutheran Church\, 17205 County Road 6\, Plymouth\, MN\, 55447\, United States
CATEGORIES:Worship
GEO:44.994703;-93.497968
X-APPLE-STRUCTURED-LOCATION;VALUE=URI;X-ADDRESS=St. Philip the Deacon Lutheran Church 17205 County Road 6 Plymouth MN 55447 United States;X-APPLE-RADIUS=500;X-TITLE=17205 County Road 6:geo:-93.497968,44.994703
END:VEVENT
BEGIN:VEVENT
DTSTART;TZID=America/Chicago:20290516T130000
DTEND;TZID=America/Chicago:20290516T140000
DTSTAMP:20260421T060143
CREATED:20171226T213856Z
LAST-MODIFIED:20250305T191851Z
UID:10012118-1873630800-1873634400@spdlc.org
SUMMARY:Caregiver's Support Group
DESCRIPTION:A mutual support group and respite time for those who are providing personal nursing care for a spouse or family member at home. \nThe SPD Caregiver’s Support Group is meeting regularly in the Fireside Room Wednesdays at 1 p.m. If you are caring for a loved one and would like the support of others with shared experiences\, please join the group! 
URL:https://spdlc.org/event/caregivers/2029-05-16/
LOCATION:St. Philip the Deacon Lutheran Church\, 17205 County Road 6\, Plymouth\, MN\, 55447\, United States
CATEGORIES:Adults
GEO:44.994703;-93.497968
X-APPLE-STRUCTURED-LOCATION;VALUE=URI;X-ADDRESS=St. Philip the Deacon Lutheran Church 17205 County Road 6 Plymouth MN 55447 United States;X-APPLE-RADIUS=500;X-TITLE=17205 County Road 6:geo:-93.497968,44.994703
END:VEVENT
BEGIN:VEVENT
DTSTART;TZID=America/Chicago:20290520T081500
DTEND;TZID=America/Chicago:20290520T091500
DTSTAMP:20260421T060143
CREATED:20170830T211659Z
LAST-MODIFIED:20250420T040611Z
UID:10013497-1873959300-1873962900@spdlc.org
SUMMARY:Worship at 8:15 a.m.
DESCRIPTION:Sunday – 8:15 a.m. Join us for a traditional worship service.
URL:https://spdlc.org/event/worship-815/2029-05-20/
LOCATION:St. Philip the Deacon Lutheran Church\, 17205 County Road 6\, Plymouth\, MN\, 55447\, United States
CATEGORIES:Worship
GEO:44.994703;-93.497968
X-APPLE-STRUCTURED-LOCATION;VALUE=URI;X-ADDRESS=St. Philip the Deacon Lutheran Church 17205 County Road 6 Plymouth MN 55447 United States;X-APPLE-RADIUS=500;X-TITLE=17205 County Road 6:geo:-93.497968,44.994703
END:VEVENT
BEGIN:VEVENT
DTSTART;TZID=America/Chicago:20290520T081500
DTEND;TZID=America/Chicago:20290520T091500
DTSTAMP:20260421T060143
CREATED:20250420T040340Z
LAST-MODIFIED:20250420T041016Z
UID:10013236-1873959300-1873962900@spdlc.org
SUMMARY:Worship at 8:15 a.m.
DESCRIPTION:Sunday – 8:15 a.m. Join us for a traditional worship service.
URL:https://spdlc.org/event/worship-815-2/2029-05-20/
LOCATION:St. Philip the Deacon Lutheran Church\, 17205 County Road 6\, Plymouth\, MN\, 55447\, United States
CATEGORIES:Worship
GEO:44.994703;-93.497968
X-APPLE-STRUCTURED-LOCATION;VALUE=URI;X-ADDRESS=St. Philip the Deacon Lutheran Church 17205 County Road 6 Plymouth MN 55447 United States;X-APPLE-RADIUS=500;X-TITLE=17205 County Road 6:geo:-93.497968,44.994703
END:VEVENT
BEGIN:VEVENT
DTSTART;TZID=America/Chicago:20290523T130000
DTEND;TZID=America/Chicago:20290523T140000
DTSTAMP:20260421T060143
CREATED:20171226T213856Z
LAST-MODIFIED:20250305T191851Z
UID:10012119-1874235600-1874239200@spdlc.org
SUMMARY:Caregiver's Support Group
DESCRIPTION:A mutual support group and respite time for those who are providing personal nursing care for a spouse or family member at home. \nThe SPD Caregiver’s Support Group is meeting regularly in the Fireside Room Wednesdays at 1 p.m. If you are caring for a loved one and would like the support of others with shared experiences\, please join the group! 
URL:https://spdlc.org/event/caregivers/2029-05-23/
LOCATION:St. Philip the Deacon Lutheran Church\, 17205 County Road 6\, Plymouth\, MN\, 55447\, United States
CATEGORIES:Adults
GEO:44.994703;-93.497968
X-APPLE-STRUCTURED-LOCATION;VALUE=URI;X-ADDRESS=St. Philip the Deacon Lutheran Church 17205 County Road 6 Plymouth MN 55447 United States;X-APPLE-RADIUS=500;X-TITLE=17205 County Road 6:geo:-93.497968,44.994703
END:VEVENT
BEGIN:VEVENT
DTSTART;TZID=America/Chicago:20290527T081500
DTEND;TZID=America/Chicago:20290527T091500
DTSTAMP:20260421T060143
CREATED:20170830T211659Z
LAST-MODIFIED:20250420T040611Z
UID:10013498-1874564100-1874567700@spdlc.org
SUMMARY:Worship at 8:15 a.m.
DESCRIPTION:Sunday – 8:15 a.m. Join us for a traditional worship service.
URL:https://spdlc.org/event/worship-815/2029-05-27/
LOCATION:St. Philip the Deacon Lutheran Church\, 17205 County Road 6\, Plymouth\, MN\, 55447\, United States
CATEGORIES:Worship
GEO:44.994703;-93.497968
X-APPLE-STRUCTURED-LOCATION;VALUE=URI;X-ADDRESS=St. Philip the Deacon Lutheran Church 17205 County Road 6 Plymouth MN 55447 United States;X-APPLE-RADIUS=500;X-TITLE=17205 County Road 6:geo:-93.497968,44.994703
END:VEVENT
BEGIN:VEVENT
DTSTART;TZID=America/Chicago:20290527T081500
DTEND;TZID=America/Chicago:20290527T091500
DTSTAMP:20260421T060143
CREATED:20250420T040340Z
LAST-MODIFIED:20250420T041016Z
UID:10013237-1874564100-1874567700@spdlc.org
SUMMARY:Worship at 8:15 a.m.
DESCRIPTION:Sunday – 8:15 a.m. Join us for a traditional worship service.
URL:https://spdlc.org/event/worship-815-2/2029-05-27/
LOCATION:St. Philip the Deacon Lutheran Church\, 17205 County Road 6\, Plymouth\, MN\, 55447\, United States
CATEGORIES:Worship
GEO:44.994703;-93.497968
X-APPLE-STRUCTURED-LOCATION;VALUE=URI;X-ADDRESS=St. Philip the Deacon Lutheran Church 17205 County Road 6 Plymouth MN 55447 United States;X-APPLE-RADIUS=500;X-TITLE=17205 County Road 6:geo:-93.497968,44.994703
END:VEVENT
BEGIN:VEVENT
DTSTART;TZID=America/Chicago:20290530T130000
DTEND;TZID=America/Chicago:20290530T140000
DTSTAMP:20260421T060143
CREATED:20171226T213856Z
LAST-MODIFIED:20250305T191851Z
UID:10012120-1874840400-1874844000@spdlc.org
SUMMARY:Caregiver's Support Group
DESCRIPTION:A mutual support group and respite time for those who are providing personal nursing care for a spouse or family member at home. \nThe SPD Caregiver’s Support Group is meeting regularly in the Fireside Room Wednesdays at 1 p.m. If you are caring for a loved one and would like the support of others with shared experiences\, please join the group! 
URL:https://spdlc.org/event/caregivers/2029-05-30/
LOCATION:St. Philip the Deacon Lutheran Church\, 17205 County Road 6\, Plymouth\, MN\, 55447\, United States
CATEGORIES:Adults
GEO:44.994703;-93.497968
X-APPLE-STRUCTURED-LOCATION;VALUE=URI;X-ADDRESS=St. Philip the Deacon Lutheran Church 17205 County Road 6 Plymouth MN 55447 United States;X-APPLE-RADIUS=500;X-TITLE=17205 County Road 6:geo:-93.497968,44.994703
END:VEVENT
BEGIN:VEVENT
DTSTART;TZID=America/Chicago:20290603T081500
DTEND;TZID=America/Chicago:20290603T091500
DTSTAMP:20260421T060143
CREATED:20170830T211659Z
LAST-MODIFIED:20250420T040611Z
UID:10013499-1875168900-1875172500@spdlc.org
SUMMARY:Worship at 8:15 a.m.
DESCRIPTION:Sunday – 8:15 a.m. Join us for a traditional worship service.
URL:https://spdlc.org/event/worship-815/2029-06-03/
LOCATION:St. Philip the Deacon Lutheran Church\, 17205 County Road 6\, Plymouth\, MN\, 55447\, United States
CATEGORIES:Worship
GEO:44.994703;-93.497968
X-APPLE-STRUCTURED-LOCATION;VALUE=URI;X-ADDRESS=St. Philip the Deacon Lutheran Church 17205 County Road 6 Plymouth MN 55447 United States;X-APPLE-RADIUS=500;X-TITLE=17205 County Road 6:geo:-93.497968,44.994703
END:VEVENT
BEGIN:VEVENT
DTSTART;TZID=America/Chicago:20290603T081500
DTEND;TZID=America/Chicago:20290603T091500
DTSTAMP:20260421T060143
CREATED:20250420T040340Z
LAST-MODIFIED:20250420T041016Z
UID:10013238-1875168900-1875172500@spdlc.org
SUMMARY:Worship at 8:15 a.m.
DESCRIPTION:Sunday – 8:15 a.m. Join us for a traditional worship service.
URL:https://spdlc.org/event/worship-815-2/2029-06-03/
LOCATION:St. Philip the Deacon Lutheran Church\, 17205 County Road 6\, Plymouth\, MN\, 55447\, United States
CATEGORIES:Worship
GEO:44.994703;-93.497968
X-APPLE-STRUCTURED-LOCATION;VALUE=URI;X-ADDRESS=St. Philip the Deacon Lutheran Church 17205 County Road 6 Plymouth MN 55447 United States;X-APPLE-RADIUS=500;X-TITLE=17205 County Road 6:geo:-93.497968,44.994703
END:VEVENT
BEGIN:VEVENT
DTSTART;TZID=America/Chicago:20290606T130000
DTEND;TZID=America/Chicago:20290606T140000
DTSTAMP:20260421T060143
CREATED:20171226T213856Z
LAST-MODIFIED:20250305T191851Z
UID:10012121-1875445200-1875448800@spdlc.org
SUMMARY:Caregiver's Support Group
DESCRIPTION:A mutual support group and respite time for those who are providing personal nursing care for a spouse or family member at home. \nThe SPD Caregiver’s Support Group is meeting regularly in the Fireside Room Wednesdays at 1 p.m. If you are caring for a loved one and would like the support of others with shared experiences\, please join the group! 
URL:https://spdlc.org/event/caregivers/2029-06-06/
LOCATION:St. Philip the Deacon Lutheran Church\, 17205 County Road 6\, Plymouth\, MN\, 55447\, United States
CATEGORIES:Adults
GEO:44.994703;-93.497968
X-APPLE-STRUCTURED-LOCATION;VALUE=URI;X-ADDRESS=St. Philip the Deacon Lutheran Church 17205 County Road 6 Plymouth MN 55447 United States;X-APPLE-RADIUS=500;X-TITLE=17205 County Road 6:geo:-93.497968,44.994703
END:VEVENT
BEGIN:VEVENT
DTSTART;TZID=America/Chicago:20290610T081500
DTEND;TZID=America/Chicago:20290610T091500
DTSTAMP:20260421T060143
CREATED:20170830T211659Z
LAST-MODIFIED:20250420T040611Z
UID:10013500-1875773700-1875777300@spdlc.org
SUMMARY:Worship at 8:15 a.m.
DESCRIPTION:Sunday – 8:15 a.m. Join us for a traditional worship service.
URL:https://spdlc.org/event/worship-815/2029-06-10/
LOCATION:St. Philip the Deacon Lutheran Church\, 17205 County Road 6\, Plymouth\, MN\, 55447\, United States
CATEGORIES:Worship
GEO:44.994703;-93.497968
X-APPLE-STRUCTURED-LOCATION;VALUE=URI;X-ADDRESS=St. Philip the Deacon Lutheran Church 17205 County Road 6 Plymouth MN 55447 United States;X-APPLE-RADIUS=500;X-TITLE=17205 County Road 6:geo:-93.497968,44.994703
END:VEVENT
BEGIN:VEVENT
DTSTART;TZID=America/Chicago:20290610T081500
DTEND;TZID=America/Chicago:20290610T091500
DTSTAMP:20260421T060143
CREATED:20250420T040340Z
LAST-MODIFIED:20250420T041016Z
UID:10013239-1875773700-1875777300@spdlc.org
SUMMARY:Worship at 8:15 a.m.
DESCRIPTION:Sunday – 8:15 a.m. Join us for a traditional worship service.
URL:https://spdlc.org/event/worship-815-2/2029-06-10/
LOCATION:St. Philip the Deacon Lutheran Church\, 17205 County Road 6\, Plymouth\, MN\, 55447\, United States
CATEGORIES:Worship
GEO:44.994703;-93.497968
X-APPLE-STRUCTURED-LOCATION;VALUE=URI;X-ADDRESS=St. Philip the Deacon Lutheran Church 17205 County Road 6 Plymouth MN 55447 United States;X-APPLE-RADIUS=500;X-TITLE=17205 County Road 6:geo:-93.497968,44.994703
END:VEVENT
BEGIN:VEVENT
DTSTART;TZID=America/Chicago:20290613T130000
DTEND;TZID=America/Chicago:20290613T140000
DTSTAMP:20260421T060143
CREATED:20171226T213856Z
LAST-MODIFIED:20250305T191851Z
UID:10012122-1876050000-1876053600@spdlc.org
SUMMARY:Caregiver's Support Group
DESCRIPTION:A mutual support group and respite time for those who are providing personal nursing care for a spouse or family member at home. \nThe SPD Caregiver’s Support Group is meeting regularly in the Fireside Room Wednesdays at 1 p.m. If you are caring for a loved one and would like the support of others with shared experiences\, please join the group! 
URL:https://spdlc.org/event/caregivers/2029-06-13/
LOCATION:St. Philip the Deacon Lutheran Church\, 17205 County Road 6\, Plymouth\, MN\, 55447\, United States
CATEGORIES:Adults
GEO:44.994703;-93.497968
X-APPLE-STRUCTURED-LOCATION;VALUE=URI;X-ADDRESS=St. Philip the Deacon Lutheran Church 17205 County Road 6 Plymouth MN 55447 United States;X-APPLE-RADIUS=500;X-TITLE=17205 County Road 6:geo:-93.497968,44.994703
END:VEVENT
BEGIN:VEVENT
DTSTART;TZID=America/Chicago:20290617T081500
DTEND;TZID=America/Chicago:20290617T091500
DTSTAMP:20260421T060143
CREATED:20170830T211659Z
LAST-MODIFIED:20250420T040611Z
UID:10013501-1876378500-1876382100@spdlc.org
SUMMARY:Worship at 8:15 a.m.
DESCRIPTION:Sunday – 8:15 a.m. Join us for a traditional worship service.
URL:https://spdlc.org/event/worship-815/2029-06-17/
LOCATION:St. Philip the Deacon Lutheran Church\, 17205 County Road 6\, Plymouth\, MN\, 55447\, United States
CATEGORIES:Worship
GEO:44.994703;-93.497968
X-APPLE-STRUCTURED-LOCATION;VALUE=URI;X-ADDRESS=St. Philip the Deacon Lutheran Church 17205 County Road 6 Plymouth MN 55447 United States;X-APPLE-RADIUS=500;X-TITLE=17205 County Road 6:geo:-93.497968,44.994703
END:VEVENT
BEGIN:VEVENT
DTSTART;TZID=America/Chicago:20290617T081500
DTEND;TZID=America/Chicago:20290617T091500
DTSTAMP:20260421T060143
CREATED:20250420T040340Z
LAST-MODIFIED:20250420T041016Z
UID:10013240-1876378500-1876382100@spdlc.org
SUMMARY:Worship at 8:15 a.m.
DESCRIPTION:Sunday – 8:15 a.m. Join us for a traditional worship service.
URL:https://spdlc.org/event/worship-815-2/2029-06-17/
LOCATION:St. Philip the Deacon Lutheran Church\, 17205 County Road 6\, Plymouth\, MN\, 55447\, United States
CATEGORIES:Worship
GEO:44.994703;-93.497968
X-APPLE-STRUCTURED-LOCATION;VALUE=URI;X-ADDRESS=St. Philip the Deacon Lutheran Church 17205 County Road 6 Plymouth MN 55447 United States;X-APPLE-RADIUS=500;X-TITLE=17205 County Road 6:geo:-93.497968,44.994703
END:VEVENT
BEGIN:VEVENT
DTSTART;TZID=America/Chicago:20290620T130000
DTEND;TZID=America/Chicago:20290620T140000
DTSTAMP:20260421T060143
CREATED:20171226T213856Z
LAST-MODIFIED:20250305T191851Z
UID:10012123-1876654800-1876658400@spdlc.org
SUMMARY:Caregiver's Support Group
DESCRIPTION:A mutual support group and respite time for those who are providing personal nursing care for a spouse or family member at home. \nThe SPD Caregiver’s Support Group is meeting regularly in the Fireside Room Wednesdays at 1 p.m. If you are caring for a loved one and would like the support of others with shared experiences\, please join the group! 
URL:https://spdlc.org/event/caregivers/2029-06-20/
LOCATION:St. Philip the Deacon Lutheran Church\, 17205 County Road 6\, Plymouth\, MN\, 55447\, United States
CATEGORIES:Adults
GEO:44.994703;-93.497968
X-APPLE-STRUCTURED-LOCATION;VALUE=URI;X-ADDRESS=St. Philip the Deacon Lutheran Church 17205 County Road 6 Plymouth MN 55447 United States;X-APPLE-RADIUS=500;X-TITLE=17205 County Road 6:geo:-93.497968,44.994703
END:VEVENT
BEGIN:VEVENT
DTSTART;TZID=America/Chicago:20290624T081500
DTEND;TZID=America/Chicago:20290624T091500
DTSTAMP:20260421T060143
CREATED:20170830T211659Z
LAST-MODIFIED:20250420T040611Z
UID:10013502-1876983300-1876986900@spdlc.org
SUMMARY:Worship at 8:15 a.m.
DESCRIPTION:Sunday – 8:15 a.m. Join us for a traditional worship service.
URL:https://spdlc.org/event/worship-815/2029-06-24/
LOCATION:St. Philip the Deacon Lutheran Church\, 17205 County Road 6\, Plymouth\, MN\, 55447\, United States
CATEGORIES:Worship
GEO:44.994703;-93.497968
X-APPLE-STRUCTURED-LOCATION;VALUE=URI;X-ADDRESS=St. Philip the Deacon Lutheran Church 17205 County Road 6 Plymouth MN 55447 United States;X-APPLE-RADIUS=500;X-TITLE=17205 County Road 6:geo:-93.497968,44.994703
END:VEVENT
BEGIN:VEVENT
DTSTART;TZID=America/Chicago:20290624T081500
DTEND;TZID=America/Chicago:20290624T091500
DTSTAMP:20260421T060143
CREATED:20250420T040340Z
LAST-MODIFIED:20250420T041016Z
UID:10013241-1876983300-1876986900@spdlc.org
SUMMARY:Worship at 8:15 a.m.
DESCRIPTION:Sunday – 8:15 a.m. Join us for a traditional worship service.
URL:https://spdlc.org/event/worship-815-2/2029-06-24/
LOCATION:St. Philip the Deacon Lutheran Church\, 17205 County Road 6\, Plymouth\, MN\, 55447\, United States
CATEGORIES:Worship
GEO:44.994703;-93.497968
X-APPLE-STRUCTURED-LOCATION;VALUE=URI;X-ADDRESS=St. Philip the Deacon Lutheran Church 17205 County Road 6 Plymouth MN 55447 United States;X-APPLE-RADIUS=500;X-TITLE=17205 County Road 6:geo:-93.497968,44.994703
END:VEVENT
BEGIN:VEVENT
DTSTART;TZID=America/Chicago:20290627T130000
DTEND;TZID=America/Chicago:20290627T140000
DTSTAMP:20260421T060143
CREATED:20171226T213856Z
LAST-MODIFIED:20250305T191851Z
UID:10012124-1877259600-1877263200@spdlc.org
SUMMARY:Caregiver's Support Group
DESCRIPTION:A mutual support group and respite time for those who are providing personal nursing care for a spouse or family member at home. \nThe SPD Caregiver’s Support Group is meeting regularly in the Fireside Room Wednesdays at 1 p.m. If you are caring for a loved one and would like the support of others with shared experiences\, please join the group! 
URL:https://spdlc.org/event/caregivers/2029-06-27/
LOCATION:St. Philip the Deacon Lutheran Church\, 17205 County Road 6\, Plymouth\, MN\, 55447\, United States
CATEGORIES:Adults
GEO:44.994703;-93.497968
X-APPLE-STRUCTURED-LOCATION;VALUE=URI;X-ADDRESS=St. Philip the Deacon Lutheran Church 17205 County Road 6 Plymouth MN 55447 United States;X-APPLE-RADIUS=500;X-TITLE=17205 County Road 6:geo:-93.497968,44.994703
END:VEVENT
BEGIN:VEVENT
DTSTART;TZID=America/Chicago:20290701T081500
DTEND;TZID=America/Chicago:20290701T091500
DTSTAMP:20260421T060143
CREATED:20170830T211659Z
LAST-MODIFIED:20250420T040611Z
UID:10013503-1877588100-1877591700@spdlc.org
SUMMARY:Worship at 8:15 a.m.
DESCRIPTION:Sunday – 8:15 a.m. Join us for a traditional worship service.
URL:https://spdlc.org/event/worship-815/2029-07-01/
LOCATION:St. Philip the Deacon Lutheran Church\, 17205 County Road 6\, Plymouth\, MN\, 55447\, United States
CATEGORIES:Worship
GEO:44.994703;-93.497968
X-APPLE-STRUCTURED-LOCATION;VALUE=URI;X-ADDRESS=St. Philip the Deacon Lutheran Church 17205 County Road 6 Plymouth MN 55447 United States;X-APPLE-RADIUS=500;X-TITLE=17205 County Road 6:geo:-93.497968,44.994703
END:VEVENT
END:VCALENDAR