BEGIN:VCALENDAR
VERSION:2.0
PRODID:-//St. Philip The Deacon - ECPv6.15.18//NONSGML v1.0//EN
CALSCALE:GREGORIAN
METHOD:PUBLISH
X-WR-CALNAME:St. Philip The Deacon
X-ORIGINAL-URL:https://spdlc.org
X-WR-CALDESC:Events for St. Philip The Deacon
REFRESH-INTERVAL;VALUE=DURATION:PT1H
X-Robots-Tag:noindex
X-PUBLISHED-TTL:PT1H
BEGIN:VTIMEZONE
TZID:America/Chicago
BEGIN:DAYLIGHT
TZOFFSETFROM:-0600
TZOFFSETTO:-0500
TZNAME:CDT
DTSTART:20260308T080000
END:DAYLIGHT
BEGIN:STANDARD
TZOFFSETFROM:-0500
TZOFFSETTO:-0600
TZNAME:CST
DTSTART:20261101T070000
END:STANDARD
BEGIN:DAYLIGHT
TZOFFSETFROM:-0600
TZOFFSETTO:-0500
TZNAME:CDT
DTSTART:20270314T080000
END:DAYLIGHT
BEGIN:STANDARD
TZOFFSETFROM:-0500
TZOFFSETTO:-0600
TZNAME:CST
DTSTART:20271107T070000
END:STANDARD
BEGIN:DAYLIGHT
TZOFFSETFROM:-0600
TZOFFSETTO:-0500
TZNAME:CDT
DTSTART:20280312T080000
END:DAYLIGHT
BEGIN:STANDARD
TZOFFSETFROM:-0500
TZOFFSETTO:-0600
TZNAME:CST
DTSTART:20281105T070000
END:STANDARD
END:VTIMEZONE
BEGIN:VEVENT
DTSTART;TZID=America/Chicago:20270711T081500
DTEND;TZID=America/Chicago:20270711T091500
DTSTAMP:20260422T144642
CREATED:20250420T040340Z
LAST-MODIFIED:20250420T041016Z
UID:10008651-1815293700-1815297300@spdlc.org
SUMMARY:Worship at 8:15 a.m.
DESCRIPTION:Sunday – 8:15 a.m. Join us for a traditional worship service.
URL:https://spdlc.org/event/worship-815-2/2027-07-11/
LOCATION:St. Philip the Deacon Lutheran Church\, 17205 County Road 6\, Plymouth\, MN\, 55447\, United States
CATEGORIES:Worship
GEO:44.994703;-93.497968
X-APPLE-STRUCTURED-LOCATION;VALUE=URI;X-ADDRESS=St. Philip the Deacon Lutheran Church 17205 County Road 6 Plymouth MN 55447 United States;X-APPLE-RADIUS=500;X-TITLE=17205 County Road 6:geo:-93.497968,44.994703
END:VEVENT
BEGIN:VEVENT
DTSTART;TZID=America/Chicago:20270714T130000
DTEND;TZID=America/Chicago:20270714T140000
DTSTAMP:20260422T144642
CREATED:20171226T213856Z
LAST-MODIFIED:20250305T191851Z
UID:10009473-1815570000-1815573600@spdlc.org
SUMMARY:Caregiver's Support Group
DESCRIPTION:A mutual support group and respite time for those who are providing personal nursing care for a spouse or family member at home. \nThe SPD Caregiver’s Support Group is meeting regularly in the Fireside Room Wednesdays at 1 p.m. If you are caring for a loved one and would like the support of others with shared experiences\, please join the group! 
URL:https://spdlc.org/event/caregivers/2027-07-14/
LOCATION:St. Philip the Deacon Lutheran Church\, 17205 County Road 6\, Plymouth\, MN\, 55447\, United States
CATEGORIES:Adults
GEO:44.994703;-93.497968
X-APPLE-STRUCTURED-LOCATION;VALUE=URI;X-ADDRESS=St. Philip the Deacon Lutheran Church 17205 County Road 6 Plymouth MN 55447 United States;X-APPLE-RADIUS=500;X-TITLE=17205 County Road 6:geo:-93.497968,44.994703
END:VEVENT
BEGIN:VEVENT
DTSTART;TZID=America/Chicago:20270718T081500
DTEND;TZID=America/Chicago:20270718T091500
DTSTAMP:20260422T144642
CREATED:20170830T211659Z
LAST-MODIFIED:20250420T040611Z
UID:10013401-1815898500-1815902100@spdlc.org
SUMMARY:Worship at 8:15 a.m.
DESCRIPTION:Sunday – 8:15 a.m. Join us for a traditional worship service.
URL:https://spdlc.org/event/worship-815/2027-07-18/
LOCATION:St. Philip the Deacon Lutheran Church\, 17205 County Road 6\, Plymouth\, MN\, 55447\, United States
CATEGORIES:Worship
GEO:44.994703;-93.497968
X-APPLE-STRUCTURED-LOCATION;VALUE=URI;X-ADDRESS=St. Philip the Deacon Lutheran Church 17205 County Road 6 Plymouth MN 55447 United States;X-APPLE-RADIUS=500;X-TITLE=17205 County Road 6:geo:-93.497968,44.994703
END:VEVENT
BEGIN:VEVENT
DTSTART;TZID=America/Chicago:20270718T081500
DTEND;TZID=America/Chicago:20270718T091500
DTSTAMP:20260422T144642
CREATED:20250420T040340Z
LAST-MODIFIED:20250420T041016Z
UID:10008652-1815898500-1815902100@spdlc.org
SUMMARY:Worship at 8:15 a.m.
DESCRIPTION:Sunday – 8:15 a.m. Join us for a traditional worship service.
URL:https://spdlc.org/event/worship-815-2/2027-07-18/
LOCATION:St. Philip the Deacon Lutheran Church\, 17205 County Road 6\, Plymouth\, MN\, 55447\, United States
CATEGORIES:Worship
GEO:44.994703;-93.497968
X-APPLE-STRUCTURED-LOCATION;VALUE=URI;X-ADDRESS=St. Philip the Deacon Lutheran Church 17205 County Road 6 Plymouth MN 55447 United States;X-APPLE-RADIUS=500;X-TITLE=17205 County Road 6:geo:-93.497968,44.994703
END:VEVENT
BEGIN:VEVENT
DTSTART;TZID=America/Chicago:20270721T130000
DTEND;TZID=America/Chicago:20270721T140000
DTSTAMP:20260422T144642
CREATED:20171226T213856Z
LAST-MODIFIED:20250305T191851Z
UID:10009474-1816174800-1816178400@spdlc.org
SUMMARY:Caregiver's Support Group
DESCRIPTION:A mutual support group and respite time for those who are providing personal nursing care for a spouse or family member at home. \nThe SPD Caregiver’s Support Group is meeting regularly in the Fireside Room Wednesdays at 1 p.m. If you are caring for a loved one and would like the support of others with shared experiences\, please join the group! 
URL:https://spdlc.org/event/caregivers/2027-07-21/
LOCATION:St. Philip the Deacon Lutheran Church\, 17205 County Road 6\, Plymouth\, MN\, 55447\, United States
CATEGORIES:Adults
GEO:44.994703;-93.497968
X-APPLE-STRUCTURED-LOCATION;VALUE=URI;X-ADDRESS=St. Philip the Deacon Lutheran Church 17205 County Road 6 Plymouth MN 55447 United States;X-APPLE-RADIUS=500;X-TITLE=17205 County Road 6:geo:-93.497968,44.994703
END:VEVENT
BEGIN:VEVENT
DTSTART;TZID=America/Chicago:20270725T081500
DTEND;TZID=America/Chicago:20270725T091500
DTSTAMP:20260422T144642
CREATED:20170830T211659Z
LAST-MODIFIED:20250420T040611Z
UID:10013402-1816503300-1816506900@spdlc.org
SUMMARY:Worship at 8:15 a.m.
DESCRIPTION:Sunday – 8:15 a.m. Join us for a traditional worship service.
URL:https://spdlc.org/event/worship-815/2027-07-25/
LOCATION:St. Philip the Deacon Lutheran Church\, 17205 County Road 6\, Plymouth\, MN\, 55447\, United States
CATEGORIES:Worship
GEO:44.994703;-93.497968
X-APPLE-STRUCTURED-LOCATION;VALUE=URI;X-ADDRESS=St. Philip the Deacon Lutheran Church 17205 County Road 6 Plymouth MN 55447 United States;X-APPLE-RADIUS=500;X-TITLE=17205 County Road 6:geo:-93.497968,44.994703
END:VEVENT
BEGIN:VEVENT
DTSTART;TZID=America/Chicago:20270725T081500
DTEND;TZID=America/Chicago:20270725T091500
DTSTAMP:20260422T144642
CREATED:20250420T040340Z
LAST-MODIFIED:20250420T041016Z
UID:10008653-1816503300-1816506900@spdlc.org
SUMMARY:Worship at 8:15 a.m.
DESCRIPTION:Sunday – 8:15 a.m. Join us for a traditional worship service.
URL:https://spdlc.org/event/worship-815-2/2027-07-25/
LOCATION:St. Philip the Deacon Lutheran Church\, 17205 County Road 6\, Plymouth\, MN\, 55447\, United States
CATEGORIES:Worship
GEO:44.994703;-93.497968
X-APPLE-STRUCTURED-LOCATION;VALUE=URI;X-ADDRESS=St. Philip the Deacon Lutheran Church 17205 County Road 6 Plymouth MN 55447 United States;X-APPLE-RADIUS=500;X-TITLE=17205 County Road 6:geo:-93.497968,44.994703
END:VEVENT
BEGIN:VEVENT
DTSTART;TZID=America/Chicago:20270728T130000
DTEND;TZID=America/Chicago:20270728T140000
DTSTAMP:20260422T144642
CREATED:20171226T213856Z
LAST-MODIFIED:20250305T191851Z
UID:10009475-1816779600-1816783200@spdlc.org
SUMMARY:Caregiver's Support Group
DESCRIPTION:A mutual support group and respite time for those who are providing personal nursing care for a spouse or family member at home. \nThe SPD Caregiver’s Support Group is meeting regularly in the Fireside Room Wednesdays at 1 p.m. If you are caring for a loved one and would like the support of others with shared experiences\, please join the group! 
URL:https://spdlc.org/event/caregivers/2027-07-28/
LOCATION:St. Philip the Deacon Lutheran Church\, 17205 County Road 6\, Plymouth\, MN\, 55447\, United States
CATEGORIES:Adults
GEO:44.994703;-93.497968
X-APPLE-STRUCTURED-LOCATION;VALUE=URI;X-ADDRESS=St. Philip the Deacon Lutheran Church 17205 County Road 6 Plymouth MN 55447 United States;X-APPLE-RADIUS=500;X-TITLE=17205 County Road 6:geo:-93.497968,44.994703
END:VEVENT
BEGIN:VEVENT
DTSTART;TZID=America/Chicago:20270801T081500
DTEND;TZID=America/Chicago:20270801T091500
DTSTAMP:20260422T144642
CREATED:20170830T211659Z
LAST-MODIFIED:20250420T040611Z
UID:10013403-1817108100-1817111700@spdlc.org
SUMMARY:Worship at 8:15 a.m.
DESCRIPTION:Sunday – 8:15 a.m. Join us for a traditional worship service.
URL:https://spdlc.org/event/worship-815/2027-08-01/
LOCATION:St. Philip the Deacon Lutheran Church\, 17205 County Road 6\, Plymouth\, MN\, 55447\, United States
CATEGORIES:Worship
GEO:44.994703;-93.497968
X-APPLE-STRUCTURED-LOCATION;VALUE=URI;X-ADDRESS=St. Philip the Deacon Lutheran Church 17205 County Road 6 Plymouth MN 55447 United States;X-APPLE-RADIUS=500;X-TITLE=17205 County Road 6:geo:-93.497968,44.994703
END:VEVENT
BEGIN:VEVENT
DTSTART;TZID=America/Chicago:20270801T081500
DTEND;TZID=America/Chicago:20270801T091500
DTSTAMP:20260422T144642
CREATED:20250420T040340Z
LAST-MODIFIED:20250420T041016Z
UID:10008654-1817108100-1817111700@spdlc.org
SUMMARY:Worship at 8:15 a.m.
DESCRIPTION:Sunday – 8:15 a.m. Join us for a traditional worship service.
URL:https://spdlc.org/event/worship-815-2/2027-08-01/
LOCATION:St. Philip the Deacon Lutheran Church\, 17205 County Road 6\, Plymouth\, MN\, 55447\, United States
CATEGORIES:Worship
GEO:44.994703;-93.497968
X-APPLE-STRUCTURED-LOCATION;VALUE=URI;X-ADDRESS=St. Philip the Deacon Lutheran Church 17205 County Road 6 Plymouth MN 55447 United States;X-APPLE-RADIUS=500;X-TITLE=17205 County Road 6:geo:-93.497968,44.994703
END:VEVENT
BEGIN:VEVENT
DTSTART;TZID=America/Chicago:20270804T130000
DTEND;TZID=America/Chicago:20270804T140000
DTSTAMP:20260422T144642
CREATED:20171226T213856Z
LAST-MODIFIED:20250305T191851Z
UID:10009476-1817384400-1817388000@spdlc.org
SUMMARY:Caregiver's Support Group
DESCRIPTION:A mutual support group and respite time for those who are providing personal nursing care for a spouse or family member at home. \nThe SPD Caregiver’s Support Group is meeting regularly in the Fireside Room Wednesdays at 1 p.m. If you are caring for a loved one and would like the support of others with shared experiences\, please join the group! 
URL:https://spdlc.org/event/caregivers/2027-08-04/
LOCATION:St. Philip the Deacon Lutheran Church\, 17205 County Road 6\, Plymouth\, MN\, 55447\, United States
CATEGORIES:Adults
GEO:44.994703;-93.497968
X-APPLE-STRUCTURED-LOCATION;VALUE=URI;X-ADDRESS=St. Philip the Deacon Lutheran Church 17205 County Road 6 Plymouth MN 55447 United States;X-APPLE-RADIUS=500;X-TITLE=17205 County Road 6:geo:-93.497968,44.994703
END:VEVENT
BEGIN:VEVENT
DTSTART;TZID=America/Chicago:20270808T081500
DTEND;TZID=America/Chicago:20270808T091500
DTSTAMP:20260422T144642
CREATED:20170830T211659Z
LAST-MODIFIED:20250420T040611Z
UID:10013404-1817712900-1817716500@spdlc.org
SUMMARY:Worship at 8:15 a.m.
DESCRIPTION:Sunday – 8:15 a.m. Join us for a traditional worship service.
URL:https://spdlc.org/event/worship-815/2027-08-08/
LOCATION:St. Philip the Deacon Lutheran Church\, 17205 County Road 6\, Plymouth\, MN\, 55447\, United States
CATEGORIES:Worship
GEO:44.994703;-93.497968
X-APPLE-STRUCTURED-LOCATION;VALUE=URI;X-ADDRESS=St. Philip the Deacon Lutheran Church 17205 County Road 6 Plymouth MN 55447 United States;X-APPLE-RADIUS=500;X-TITLE=17205 County Road 6:geo:-93.497968,44.994703
END:VEVENT
BEGIN:VEVENT
DTSTART;TZID=America/Chicago:20270808T081500
DTEND;TZID=America/Chicago:20270808T091500
DTSTAMP:20260422T144642
CREATED:20250420T040340Z
LAST-MODIFIED:20250420T041016Z
UID:10008655-1817712900-1817716500@spdlc.org
SUMMARY:Worship at 8:15 a.m.
DESCRIPTION:Sunday – 8:15 a.m. Join us for a traditional worship service.
URL:https://spdlc.org/event/worship-815-2/2027-08-08/
LOCATION:St. Philip the Deacon Lutheran Church\, 17205 County Road 6\, Plymouth\, MN\, 55447\, United States
CATEGORIES:Worship
GEO:44.994703;-93.497968
X-APPLE-STRUCTURED-LOCATION;VALUE=URI;X-ADDRESS=St. Philip the Deacon Lutheran Church 17205 County Road 6 Plymouth MN 55447 United States;X-APPLE-RADIUS=500;X-TITLE=17205 County Road 6:geo:-93.497968,44.994703
END:VEVENT
BEGIN:VEVENT
DTSTART;TZID=America/Chicago:20270811T130000
DTEND;TZID=America/Chicago:20270811T140000
DTSTAMP:20260422T144642
CREATED:20171226T213856Z
LAST-MODIFIED:20250305T191851Z
UID:10009477-1817989200-1817992800@spdlc.org
SUMMARY:Caregiver's Support Group
DESCRIPTION:A mutual support group and respite time for those who are providing personal nursing care for a spouse or family member at home. \nThe SPD Caregiver’s Support Group is meeting regularly in the Fireside Room Wednesdays at 1 p.m. If you are caring for a loved one and would like the support of others with shared experiences\, please join the group! 
URL:https://spdlc.org/event/caregivers/2027-08-11/
LOCATION:St. Philip the Deacon Lutheran Church\, 17205 County Road 6\, Plymouth\, MN\, 55447\, United States
CATEGORIES:Adults
GEO:44.994703;-93.497968
X-APPLE-STRUCTURED-LOCATION;VALUE=URI;X-ADDRESS=St. Philip the Deacon Lutheran Church 17205 County Road 6 Plymouth MN 55447 United States;X-APPLE-RADIUS=500;X-TITLE=17205 County Road 6:geo:-93.497968,44.994703
END:VEVENT
BEGIN:VEVENT
DTSTART;TZID=America/Chicago:20270815T081500
DTEND;TZID=America/Chicago:20270815T091500
DTSTAMP:20260422T144642
CREATED:20170830T211659Z
LAST-MODIFIED:20250420T040611Z
UID:10013405-1818317700-1818321300@spdlc.org
SUMMARY:Worship at 8:15 a.m.
DESCRIPTION:Sunday – 8:15 a.m. Join us for a traditional worship service.
URL:https://spdlc.org/event/worship-815/2027-08-15/
LOCATION:St. Philip the Deacon Lutheran Church\, 17205 County Road 6\, Plymouth\, MN\, 55447\, United States
CATEGORIES:Worship
GEO:44.994703;-93.497968
X-APPLE-STRUCTURED-LOCATION;VALUE=URI;X-ADDRESS=St. Philip the Deacon Lutheran Church 17205 County Road 6 Plymouth MN 55447 United States;X-APPLE-RADIUS=500;X-TITLE=17205 County Road 6:geo:-93.497968,44.994703
END:VEVENT
BEGIN:VEVENT
DTSTART;TZID=America/Chicago:20270815T081500
DTEND;TZID=America/Chicago:20270815T091500
DTSTAMP:20260422T144642
CREATED:20250420T040340Z
LAST-MODIFIED:20250420T041016Z
UID:10008656-1818317700-1818321300@spdlc.org
SUMMARY:Worship at 8:15 a.m.
DESCRIPTION:Sunday – 8:15 a.m. Join us for a traditional worship service.
URL:https://spdlc.org/event/worship-815-2/2027-08-15/
LOCATION:St. Philip the Deacon Lutheran Church\, 17205 County Road 6\, Plymouth\, MN\, 55447\, United States
CATEGORIES:Worship
GEO:44.994703;-93.497968
X-APPLE-STRUCTURED-LOCATION;VALUE=URI;X-ADDRESS=St. Philip the Deacon Lutheran Church 17205 County Road 6 Plymouth MN 55447 United States;X-APPLE-RADIUS=500;X-TITLE=17205 County Road 6:geo:-93.497968,44.994703
END:VEVENT
BEGIN:VEVENT
DTSTART;TZID=America/Chicago:20270818T130000
DTEND;TZID=America/Chicago:20270818T140000
DTSTAMP:20260422T144642
CREATED:20171226T213856Z
LAST-MODIFIED:20250305T191851Z
UID:10009478-1818594000-1818597600@spdlc.org
SUMMARY:Caregiver's Support Group
DESCRIPTION:A mutual support group and respite time for those who are providing personal nursing care for a spouse or family member at home. \nThe SPD Caregiver’s Support Group is meeting regularly in the Fireside Room Wednesdays at 1 p.m. If you are caring for a loved one and would like the support of others with shared experiences\, please join the group! 
URL:https://spdlc.org/event/caregivers/2027-08-18/
LOCATION:St. Philip the Deacon Lutheran Church\, 17205 County Road 6\, Plymouth\, MN\, 55447\, United States
CATEGORIES:Adults
GEO:44.994703;-93.497968
X-APPLE-STRUCTURED-LOCATION;VALUE=URI;X-ADDRESS=St. Philip the Deacon Lutheran Church 17205 County Road 6 Plymouth MN 55447 United States;X-APPLE-RADIUS=500;X-TITLE=17205 County Road 6:geo:-93.497968,44.994703
END:VEVENT
BEGIN:VEVENT
DTSTART;TZID=America/Chicago:20270822T081500
DTEND;TZID=America/Chicago:20270822T091500
DTSTAMP:20260422T144642
CREATED:20170830T211659Z
LAST-MODIFIED:20250420T040611Z
UID:10013406-1818922500-1818926100@spdlc.org
SUMMARY:Worship at 8:15 a.m.
DESCRIPTION:Sunday – 8:15 a.m. Join us for a traditional worship service.
URL:https://spdlc.org/event/worship-815/2027-08-22/
LOCATION:St. Philip the Deacon Lutheran Church\, 17205 County Road 6\, Plymouth\, MN\, 55447\, United States
CATEGORIES:Worship
GEO:44.994703;-93.497968
X-APPLE-STRUCTURED-LOCATION;VALUE=URI;X-ADDRESS=St. Philip the Deacon Lutheran Church 17205 County Road 6 Plymouth MN 55447 United States;X-APPLE-RADIUS=500;X-TITLE=17205 County Road 6:geo:-93.497968,44.994703
END:VEVENT
BEGIN:VEVENT
DTSTART;TZID=America/Chicago:20270822T081500
DTEND;TZID=America/Chicago:20270822T091500
DTSTAMP:20260422T144642
CREATED:20250420T040340Z
LAST-MODIFIED:20250420T041016Z
UID:10008657-1818922500-1818926100@spdlc.org
SUMMARY:Worship at 8:15 a.m.
DESCRIPTION:Sunday – 8:15 a.m. Join us for a traditional worship service.
URL:https://spdlc.org/event/worship-815-2/2027-08-22/
LOCATION:St. Philip the Deacon Lutheran Church\, 17205 County Road 6\, Plymouth\, MN\, 55447\, United States
CATEGORIES:Worship
GEO:44.994703;-93.497968
X-APPLE-STRUCTURED-LOCATION;VALUE=URI;X-ADDRESS=St. Philip the Deacon Lutheran Church 17205 County Road 6 Plymouth MN 55447 United States;X-APPLE-RADIUS=500;X-TITLE=17205 County Road 6:geo:-93.497968,44.994703
END:VEVENT
BEGIN:VEVENT
DTSTART;TZID=America/Chicago:20270825T130000
DTEND;TZID=America/Chicago:20270825T140000
DTSTAMP:20260422T144642
CREATED:20171226T213856Z
LAST-MODIFIED:20250305T191851Z
UID:10009479-1819198800-1819202400@spdlc.org
SUMMARY:Caregiver's Support Group
DESCRIPTION:A mutual support group and respite time for those who are providing personal nursing care for a spouse or family member at home. \nThe SPD Caregiver’s Support Group is meeting regularly in the Fireside Room Wednesdays at 1 p.m. If you are caring for a loved one and would like the support of others with shared experiences\, please join the group! 
URL:https://spdlc.org/event/caregivers/2027-08-25/
LOCATION:St. Philip the Deacon Lutheran Church\, 17205 County Road 6\, Plymouth\, MN\, 55447\, United States
CATEGORIES:Adults
GEO:44.994703;-93.497968
X-APPLE-STRUCTURED-LOCATION;VALUE=URI;X-ADDRESS=St. Philip the Deacon Lutheran Church 17205 County Road 6 Plymouth MN 55447 United States;X-APPLE-RADIUS=500;X-TITLE=17205 County Road 6:geo:-93.497968,44.994703
END:VEVENT
BEGIN:VEVENT
DTSTART;TZID=America/Chicago:20270829T081500
DTEND;TZID=America/Chicago:20270829T091500
DTSTAMP:20260422T144642
CREATED:20170830T211659Z
LAST-MODIFIED:20250420T040611Z
UID:10013407-1819527300-1819530900@spdlc.org
SUMMARY:Worship at 8:15 a.m.
DESCRIPTION:Sunday – 8:15 a.m. Join us for a traditional worship service.
URL:https://spdlc.org/event/worship-815/2027-08-29/
LOCATION:St. Philip the Deacon Lutheran Church\, 17205 County Road 6\, Plymouth\, MN\, 55447\, United States
CATEGORIES:Worship
GEO:44.994703;-93.497968
X-APPLE-STRUCTURED-LOCATION;VALUE=URI;X-ADDRESS=St. Philip the Deacon Lutheran Church 17205 County Road 6 Plymouth MN 55447 United States;X-APPLE-RADIUS=500;X-TITLE=17205 County Road 6:geo:-93.497968,44.994703
END:VEVENT
BEGIN:VEVENT
DTSTART;TZID=America/Chicago:20270829T081500
DTEND;TZID=America/Chicago:20270829T091500
DTSTAMP:20260422T144642
CREATED:20250420T040340Z
LAST-MODIFIED:20250420T041016Z
UID:10008658-1819527300-1819530900@spdlc.org
SUMMARY:Worship at 8:15 a.m.
DESCRIPTION:Sunday – 8:15 a.m. Join us for a traditional worship service.
URL:https://spdlc.org/event/worship-815-2/2027-08-29/
LOCATION:St. Philip the Deacon Lutheran Church\, 17205 County Road 6\, Plymouth\, MN\, 55447\, United States
CATEGORIES:Worship
GEO:44.994703;-93.497968
X-APPLE-STRUCTURED-LOCATION;VALUE=URI;X-ADDRESS=St. Philip the Deacon Lutheran Church 17205 County Road 6 Plymouth MN 55447 United States;X-APPLE-RADIUS=500;X-TITLE=17205 County Road 6:geo:-93.497968,44.994703
END:VEVENT
BEGIN:VEVENT
DTSTART;TZID=America/Chicago:20270901T130000
DTEND;TZID=America/Chicago:20270901T140000
DTSTAMP:20260422T144642
CREATED:20171226T213856Z
LAST-MODIFIED:20250305T191851Z
UID:10009480-1819803600-1819807200@spdlc.org
SUMMARY:Caregiver's Support Group
DESCRIPTION:A mutual support group and respite time for those who are providing personal nursing care for a spouse or family member at home. \nThe SPD Caregiver’s Support Group is meeting regularly in the Fireside Room Wednesdays at 1 p.m. If you are caring for a loved one and would like the support of others with shared experiences\, please join the group! 
URL:https://spdlc.org/event/caregivers/2027-09-01/
LOCATION:St. Philip the Deacon Lutheran Church\, 17205 County Road 6\, Plymouth\, MN\, 55447\, United States
CATEGORIES:Adults
GEO:44.994703;-93.497968
X-APPLE-STRUCTURED-LOCATION;VALUE=URI;X-ADDRESS=St. Philip the Deacon Lutheran Church 17205 County Road 6 Plymouth MN 55447 United States;X-APPLE-RADIUS=500;X-TITLE=17205 County Road 6:geo:-93.497968,44.994703
END:VEVENT
BEGIN:VEVENT
DTSTART;TZID=America/Chicago:20270905T081500
DTEND;TZID=America/Chicago:20270905T091500
DTSTAMP:20260422T144642
CREATED:20170830T211659Z
LAST-MODIFIED:20250420T040611Z
UID:10013408-1820132100-1820135700@spdlc.org
SUMMARY:Worship at 8:15 a.m.
DESCRIPTION:Sunday – 8:15 a.m. Join us for a traditional worship service.
URL:https://spdlc.org/event/worship-815/2027-09-05/
LOCATION:St. Philip the Deacon Lutheran Church\, 17205 County Road 6\, Plymouth\, MN\, 55447\, United States
CATEGORIES:Worship
GEO:44.994703;-93.497968
X-APPLE-STRUCTURED-LOCATION;VALUE=URI;X-ADDRESS=St. Philip the Deacon Lutheran Church 17205 County Road 6 Plymouth MN 55447 United States;X-APPLE-RADIUS=500;X-TITLE=17205 County Road 6:geo:-93.497968,44.994703
END:VEVENT
BEGIN:VEVENT
DTSTART;TZID=America/Chicago:20270905T081500
DTEND;TZID=America/Chicago:20270905T091500
DTSTAMP:20260422T144642
CREATED:20250420T040340Z
LAST-MODIFIED:20250420T041016Z
UID:10008659-1820132100-1820135700@spdlc.org
SUMMARY:Worship at 8:15 a.m.
DESCRIPTION:Sunday – 8:15 a.m. Join us for a traditional worship service.
URL:https://spdlc.org/event/worship-815-2/2027-09-05/
LOCATION:St. Philip the Deacon Lutheran Church\, 17205 County Road 6\, Plymouth\, MN\, 55447\, United States
CATEGORIES:Worship
GEO:44.994703;-93.497968
X-APPLE-STRUCTURED-LOCATION;VALUE=URI;X-ADDRESS=St. Philip the Deacon Lutheran Church 17205 County Road 6 Plymouth MN 55447 United States;X-APPLE-RADIUS=500;X-TITLE=17205 County Road 6:geo:-93.497968,44.994703
END:VEVENT
BEGIN:VEVENT
DTSTART;TZID=America/Chicago:20270908T130000
DTEND;TZID=America/Chicago:20270908T140000
DTSTAMP:20260422T144642
CREATED:20171226T213856Z
LAST-MODIFIED:20250305T191851Z
UID:10009481-1820408400-1820412000@spdlc.org
SUMMARY:Caregiver's Support Group
DESCRIPTION:A mutual support group and respite time for those who are providing personal nursing care for a spouse or family member at home. \nThe SPD Caregiver’s Support Group is meeting regularly in the Fireside Room Wednesdays at 1 p.m. If you are caring for a loved one and would like the support of others with shared experiences\, please join the group! 
URL:https://spdlc.org/event/caregivers/2027-09-08/
LOCATION:St. Philip the Deacon Lutheran Church\, 17205 County Road 6\, Plymouth\, MN\, 55447\, United States
CATEGORIES:Adults
GEO:44.994703;-93.497968
X-APPLE-STRUCTURED-LOCATION;VALUE=URI;X-ADDRESS=St. Philip the Deacon Lutheran Church 17205 County Road 6 Plymouth MN 55447 United States;X-APPLE-RADIUS=500;X-TITLE=17205 County Road 6:geo:-93.497968,44.994703
END:VEVENT
BEGIN:VEVENT
DTSTART;TZID=America/Chicago:20270912T081500
DTEND;TZID=America/Chicago:20270912T091500
DTSTAMP:20260422T144642
CREATED:20170830T211659Z
LAST-MODIFIED:20250420T040611Z
UID:10013409-1820736900-1820740500@spdlc.org
SUMMARY:Worship at 8:15 a.m.
DESCRIPTION:Sunday – 8:15 a.m. Join us for a traditional worship service.
URL:https://spdlc.org/event/worship-815/2027-09-12/
LOCATION:St. Philip the Deacon Lutheran Church\, 17205 County Road 6\, Plymouth\, MN\, 55447\, United States
CATEGORIES:Worship
GEO:44.994703;-93.497968
X-APPLE-STRUCTURED-LOCATION;VALUE=URI;X-ADDRESS=St. Philip the Deacon Lutheran Church 17205 County Road 6 Plymouth MN 55447 United States;X-APPLE-RADIUS=500;X-TITLE=17205 County Road 6:geo:-93.497968,44.994703
END:VEVENT
BEGIN:VEVENT
DTSTART;TZID=America/Chicago:20270912T081500
DTEND;TZID=America/Chicago:20270912T091500
DTSTAMP:20260422T144642
CREATED:20250420T040340Z
LAST-MODIFIED:20250420T041016Z
UID:10008660-1820736900-1820740500@spdlc.org
SUMMARY:Worship at 8:15 a.m.
DESCRIPTION:Sunday – 8:15 a.m. Join us for a traditional worship service.
URL:https://spdlc.org/event/worship-815-2/2027-09-12/
LOCATION:St. Philip the Deacon Lutheran Church\, 17205 County Road 6\, Plymouth\, MN\, 55447\, United States
CATEGORIES:Worship
GEO:44.994703;-93.497968
X-APPLE-STRUCTURED-LOCATION;VALUE=URI;X-ADDRESS=St. Philip the Deacon Lutheran Church 17205 County Road 6 Plymouth MN 55447 United States;X-APPLE-RADIUS=500;X-TITLE=17205 County Road 6:geo:-93.497968,44.994703
END:VEVENT
BEGIN:VEVENT
DTSTART;TZID=America/Chicago:20270915T130000
DTEND;TZID=America/Chicago:20270915T140000
DTSTAMP:20260422T144642
CREATED:20171226T213856Z
LAST-MODIFIED:20250305T191851Z
UID:10009482-1821013200-1821016800@spdlc.org
SUMMARY:Caregiver's Support Group
DESCRIPTION:A mutual support group and respite time for those who are providing personal nursing care for a spouse or family member at home. \nThe SPD Caregiver’s Support Group is meeting regularly in the Fireside Room Wednesdays at 1 p.m. If you are caring for a loved one and would like the support of others with shared experiences\, please join the group! 
URL:https://spdlc.org/event/caregivers/2027-09-15/
LOCATION:St. Philip the Deacon Lutheran Church\, 17205 County Road 6\, Plymouth\, MN\, 55447\, United States
CATEGORIES:Adults
GEO:44.994703;-93.497968
X-APPLE-STRUCTURED-LOCATION;VALUE=URI;X-ADDRESS=St. Philip the Deacon Lutheran Church 17205 County Road 6 Plymouth MN 55447 United States;X-APPLE-RADIUS=500;X-TITLE=17205 County Road 6:geo:-93.497968,44.994703
END:VEVENT
BEGIN:VEVENT
DTSTART;TZID=America/Chicago:20270919T081500
DTEND;TZID=America/Chicago:20270919T091500
DTSTAMP:20260422T144642
CREATED:20170830T211659Z
LAST-MODIFIED:20250420T040611Z
UID:10013410-1821341700-1821345300@spdlc.org
SUMMARY:Worship at 8:15 a.m.
DESCRIPTION:Sunday – 8:15 a.m. Join us for a traditional worship service.
URL:https://spdlc.org/event/worship-815/2027-09-19/
LOCATION:St. Philip the Deacon Lutheran Church\, 17205 County Road 6\, Plymouth\, MN\, 55447\, United States
CATEGORIES:Worship
GEO:44.994703;-93.497968
X-APPLE-STRUCTURED-LOCATION;VALUE=URI;X-ADDRESS=St. Philip the Deacon Lutheran Church 17205 County Road 6 Plymouth MN 55447 United States;X-APPLE-RADIUS=500;X-TITLE=17205 County Road 6:geo:-93.497968,44.994703
END:VEVENT
END:VCALENDAR