BEGIN:VCALENDAR
VERSION:2.0
PRODID:-//St. Philip The Deacon - ECPv6.15.18//NONSGML v1.0//EN
CALSCALE:GREGORIAN
METHOD:PUBLISH
X-WR-CALNAME:St. Philip The Deacon
X-ORIGINAL-URL:https://spdlc.org
X-WR-CALDESC:Events for St. Philip The Deacon
REFRESH-INTERVAL;VALUE=DURATION:PT1H
X-Robots-Tag:noindex
X-PUBLISHED-TTL:PT1H
BEGIN:VTIMEZONE
TZID:America/Chicago
BEGIN:DAYLIGHT
TZOFFSETFROM:-0600
TZOFFSETTO:-0500
TZNAME:CDT
DTSTART:20230312T080000
END:DAYLIGHT
BEGIN:STANDARD
TZOFFSETFROM:-0500
TZOFFSETTO:-0600
TZNAME:CST
DTSTART:20231105T070000
END:STANDARD
BEGIN:DAYLIGHT
TZOFFSETFROM:-0600
TZOFFSETTO:-0500
TZNAME:CDT
DTSTART:20240310T080000
END:DAYLIGHT
BEGIN:STANDARD
TZOFFSETFROM:-0500
TZOFFSETTO:-0600
TZNAME:CST
DTSTART:20241103T070000
END:STANDARD
BEGIN:DAYLIGHT
TZOFFSETFROM:-0600
TZOFFSETTO:-0500
TZNAME:CDT
DTSTART:20250309T080000
END:DAYLIGHT
BEGIN:STANDARD
TZOFFSETFROM:-0500
TZOFFSETTO:-0600
TZNAME:CST
DTSTART:20251102T070000
END:STANDARD
END:VTIMEZONE
BEGIN:VEVENT
DTSTART;TZID=America/Chicago:20240117T063000
DTEND;TZID=America/Chicago:20240117T073000
DTSTAMP:20260419T123012
CREATED:20230816T200613Z
LAST-MODIFIED:20250507T144634Z
UID:10008111-1705473000-1705476600@spdlc.org
SUMMARY:Men's Bible Study
DESCRIPTION:Join us for the Wednesday Morning Men’s Bible Study & Fellowship. It’s open to men of all ages. Meets in the Fireside Room\, middle level. If you have questions\, contact Ed Wasz\, at 763-218-5351 or edwin.wasz@gmail.com. \n 
URL:https://spdlc.org/event/mens-bible-study-3/2024-01-17/
LOCATION:MN
CATEGORIES:Adults,Learning
ATTACH;FMTTYPE=image/jpeg:https://spdlc.s3.amazonaws.com/wp-content/uploads/2020/12/Resolutions-e1609341532977.jpg
END:VEVENT
BEGIN:VEVENT
DTSTART;TZID=America/Chicago:20240116T183000
DTEND;TZID=America/Chicago:20240116T193000
DTSTAMP:20260419T123012
CREATED:20230823T165807Z
LAST-MODIFIED:20240108T204414Z
UID:10006040-1705429800-1705433400@spdlc.org
SUMMARY:Book Club
DESCRIPTION:Please join us for another year of good reads and great conversation! Book Club meets on the third Tuesday of each month at 6:30 p.m. We will meet in-person at SPD and via Zoom. The Zoom link for all Book Club meetings is: https://spdlc.zoom.us/my/spdbookclub \nYou can order them from any bookstore or Amazon. The books will not be available to purchase or pick up from the church.  \nSept 19 –Pastor Cheryl Mathison – Lucy By the Sea by Elizabeth Strout \nOct 17 – Pastor Tim Westermeyer – Coronation: A History of the British Monarchy by Roy Strong \nNov 21 – Pastor Mark Schmid – Fostered:  One Woman’s Powerful Story of Finding Faith and Family Through Foster Care by Tori Hope Peterson – Faith & Life speaker \nJan 16 – Susan Path – Fight Back With Joy: Celebrate More. Regret Less. Stare Down Your Greatest Fears by Margaret Feinberg – Faith and Life speaker \nFeb 20 – Amanda Berger – Meditations of the Heart by Howard Thurman \nMar 19 – Pastor Valerie Strand Patterson – Prayers of the Cosmos:  Reflections on the Original Meaning of Jesus’ Words by Neil Douglas-Klotz \nApril 16 – Pastor Mark Schmid – Shop Class as Soulcraft: An Inquiry into the Value of Work by Matthew B. Crawford \nMay 21 – Amanda Berger – The Greenest Branch:  A Novel of Germany’s First Female Physician: Hildegard of Bingen by P.K. Adams
URL:https://spdlc.org/event/book-club-2-2/2024-01-16/
LOCATION:MN
CATEGORIES:Adults,Learning
ATTACH;FMTTYPE=image/jpeg:https://spdlc.s3.amazonaws.com/wp-content/uploads/2021/03/Book-Club-Thumbnail.jpg
END:VEVENT
BEGIN:VEVENT
DTSTART;TZID=America/Chicago:20240116T183000
DTEND;TZID=America/Chicago:20240116T193000
DTSTAMP:20260419T123012
CREATED:20230517T181720Z
LAST-MODIFIED:20241203T183026Z
UID:10007801-1705429800-1705433400@spdlc.org
SUMMARY:YogaFaith Tues Evening
DESCRIPTION:Connect to body and soul with this vinyasa flow class\, featuring prayer\, movement and devotions. Contact Amanda Berger at aberger@spdlc.org with any questions! \nJoin on Zoom \nMeeting ID: 190 431 409 / Passcode: Downdog
URL:https://spdlc.org/event/yogafaith-tues-evening/2024-01-16/
LOCATION:MN
CATEGORIES:Adults
ATTACH;FMTTYPE=image/png:https://spdlc.org/wp-content/uploads/2019/09/YogaFaith_stacked.fw_.png
END:VEVENT
BEGIN:VEVENT
DTSTART;TZID=America/Chicago:20240116T183000
DTEND;TZID=America/Chicago:20240116T193000
DTSTAMP:20260419T123012
CREATED:20171226T214931Z
LAST-MODIFIED:20241029T210124Z
UID:10003941-1705429800-1705433400@spdlc.org
SUMMARY:SPD Tuesday Night AA Group
DESCRIPTION:SPD hosts a local weekly meeting of Alcoholics Anonymous. This group is currently meeting via Zoom on Tuesday evenings at 6:30 p.m. year round. Please contact the Minnesota chapter of AA for information about joining this meeting.
URL:https://spdlc.org/event/spd-tuesday-night-aa-group/2024-01-16/
LOCATION:MN
CATEGORIES:Adults
END:VEVENT
BEGIN:VEVENT
DTSTART;TZID=America/Chicago:20240116T130000
DTEND;TZID=America/Chicago:20240116T140000
DTSTAMP:20260419T123012
CREATED:20230815T182857Z
LAST-MODIFIED:20230815T205727Z
UID:10006994-1705410000-1705413600@spdlc.org
SUMMARY:Thrive: Cancer Support Group
DESCRIPTION:Thrive: Cancer Support Group- 1st and 3rd Tuesdays at 1 p.m. in the Fireside Room \nThrive is a new group here at SPD\, designed to help support people who are living with cancer. If you are a cancer survivor or are currently living with cancer\, and would like to help support each other\, you are invited to join the Thrive group on the 1st and 3rd Tuesdays of each month at 1 p.m. Contact Susan Path to learn more: spath@spdlc.org or 763-475-7168.
URL:https://spdlc.org/event/thrive-cancer-support-group-2/2024-01-16/
LOCATION:MN
CATEGORIES:Adults
ATTACH;FMTTYPE=image/jpeg:https://spdlc.s3.amazonaws.com/wp-content/uploads/2023/08/Thrive-Cancer-Support-Group-1.jpg
END:VEVENT
BEGIN:VEVENT
DTSTART;TZID=America/Chicago:20240116T080000
DTEND;TZID=America/Chicago:20240116T100000
DTSTAMP:20260419T123012
CREATED:20170829T175954Z
LAST-MODIFIED:20241218T200553Z
UID:10001408-1705392000-1705399200@spdlc.org
SUMMARY:Men's Discussion Group
DESCRIPTION:The Tuesday Men’s Discussion Group is a welcoming group of friends\, meeting on Tuesdays at 8 a.m. Previously meeting on-line\, this group will begin in-person meetings on May 18\, 2021. If you’d like to join this group\, please send an email to info@spdlc.org and we’ll get you connected.
URL:https://spdlc.org/event/mens-discussion-group/2024-01-16/
LOCATION:MN
CATEGORIES:Adults
END:VEVENT
BEGIN:VEVENT
DTSTART;TZID=America/Chicago:20240114T104500
DTEND;TZID=America/Chicago:20240114T114500
DTSTAMP:20260419T123012
CREATED:20170830T211950Z
LAST-MODIFIED:20250420T040712Z
UID:10000562-1705229100-1705232700@spdlc.org
SUMMARY:Worship at 10:45 a.m.
DESCRIPTION:Sunday – 10:45 a.m. Join us for this more Contemporary style of worship!
URL:https://spdlc.org/event/worship-11/2024-01-14/
LOCATION:MN
CATEGORIES:Worship
END:VEVENT
BEGIN:VEVENT
DTSTART;TZID=America/Chicago:20240114T093000
DTEND;TZID=America/Chicago:20240114T103000
DTSTAMP:20260419T123012
CREATED:20170830T211820Z
LAST-MODIFIED:20240217T193906Z
UID:10000103-1705224600-1705228200@spdlc.org
SUMMARY:Worship at 9:30 a.m.
DESCRIPTION:Sunday – 9:30 a.m. Attend in person or join us at spdlc.org/livestream for a traditional style of worship with music led by our organist.
URL:https://spdlc.org/event/worship-945/2024-01-14/
LOCATION:MN
CATEGORIES:Worship
END:VEVENT
BEGIN:VEVENT
DTSTART;TZID=America/Chicago:20240114T081500
DTEND;TZID=America/Chicago:20240114T091500
DTSTAMP:20260419T123012
CREATED:20170830T211659Z
LAST-MODIFIED:20250420T040611Z
UID:10000332-1705220100-1705223700@spdlc.org
SUMMARY:Worship at 8:15 a.m.
DESCRIPTION:Sunday – 8:15 a.m. Join us for a traditional worship service.
URL:https://spdlc.org/event/worship-815/2024-01-14/
LOCATION:St. Philip the Deacon Lutheran Church\, 17205 County Road 6\, Plymouth\, MN\, 55447\, United States
CATEGORIES:Worship
GEO:44.994703;-93.497968
X-APPLE-STRUCTURED-LOCATION;VALUE=URI;X-ADDRESS=St. Philip the Deacon Lutheran Church 17205 County Road 6 Plymouth MN 55447 United States;X-APPLE-RADIUS=500;X-TITLE=17205 County Road 6:geo:-93.497968,44.994703
END:VEVENT
BEGIN:VEVENT
DTSTART;TZID=America/Chicago:20240113T170000
DTEND;TZID=America/Chicago:20240113T180000
DTSTAMP:20260419T123012
CREATED:20230516T201158Z
LAST-MODIFIED:20231002T180139Z
UID:10007249-1705165200-1705168800@spdlc.org
SUMMARY:Worship at 5 p.m.
DESCRIPTION:Saturday 5 p.m. worship is a blend of traditional and contemporary styles\, with Holy Communion.
URL:https://spdlc.org/event/worship-at-5-p-m/2024-01-13/
LOCATION:MN
CATEGORIES:Worship
END:VEVENT
BEGIN:VEVENT
DTSTART;TZID=America/Chicago:20240113T140000
DTEND;TZID=America/Chicago:20240113T150000
DTSTAMP:20260419T123012
CREATED:20231219T204403Z
LAST-MODIFIED:20231219T220212Z
UID:10009442-1705154400-1705158000@spdlc.org
SUMMARY:Rite of Confirmation
DESCRIPTION:This is the official Rite of Confirmation worship service. Families\, Godparents and friends are all welcome to gather for this special celebration of our ninth graders as they affirm the faith into which they were baptized. The Rite of Confirmation will take place at 11 a.m. and again at 2 p.m. Confirmands\, families and friends will attend the service they have been assigned. If you have questions\, contact Olsen Pancoast at opancoast@spdlc.org.
URL:https://spdlc.org/event/rite-of-confirmation/2024-01-13/2/
LOCATION:MN
END:VEVENT
BEGIN:VEVENT
DTSTART;TZID=America/Chicago:20240113T110000
DTEND;TZID=America/Chicago:20240113T120000
DTSTAMP:20260419T123012
CREATED:20231219T204403Z
LAST-MODIFIED:20231219T220212Z
UID:10009441-1705143600-1705147200@spdlc.org
SUMMARY:Rite of Confirmation
DESCRIPTION:This is the official Rite of Confirmation worship service. Families\, Godparents and friends are all welcome to gather for this special celebration of our ninth graders as they affirm the faith into which they were baptized. The Rite of Confirmation will take place at 11 a.m. and again at 2 p.m. Confirmands\, families and friends will attend the service they have been assigned. If you have questions\, contact Olsen Pancoast at opancoast@spdlc.org.
URL:https://spdlc.org/event/rite-of-confirmation/2024-01-13/1/
LOCATION:MN
END:VEVENT
BEGIN:VEVENT
DTSTART;TZID=America/Chicago:20240112T093000
DTEND;TZID=America/Chicago:20240112T103000
DTSTAMP:20260419T123012
CREATED:20230918T150538Z
LAST-MODIFIED:20240130T182540Z
UID:10009738-1705051800-1705055400@spdlc.org
SUMMARY:Hymn Meditations
DESCRIPTION:January 12\, January 19\, January 26\, February 2\, February 9 at 9:30 a.m. in the Fireside Room \nDo hymn texts ever slide by you in worship? Join Norah Long for Hymn Meditations\, exploring a variety of creative practices for internalizing these beautiful words in order to engage in worship with fresh ears and hearts. Focus will be on hymns for upcoming worship services. Come one\, come all! No registration required. \n 
URL:https://spdlc.org/event/hymn-meditations/2024-01-12/
LOCATION:MN
CATEGORIES:Adults,Music
ATTACH;FMTTYPE=image/jpeg:https://spdlc.s3.amazonaws.com/wp-content/uploads/2023/09/HymnMed.jpg
END:VEVENT
BEGIN:VEVENT
DTSTART;TZID=America/Chicago:20240111T093000
DTEND;TZID=America/Chicago:20240111T103000
DTSTAMP:20260419T123012
CREATED:20230816T204546Z
LAST-MODIFIED:20231207T170504Z
UID:10008234-1704965400-1704969000@spdlc.org
SUMMARY:Moms In Prayer – High School\, College & Career Group
DESCRIPTION:Thursday mornings at 9:30 a.m.\, Beginning Thursday\, Sept. 21 \nAll moms of WHS students\, OHS students and adult children (college or career) are invited to meet on Thursdays from 9:30- 10:30 a.m. to pray for our schools and kids. We welcome you whether you are brand new to praying or a seasoned prayer warrior. We will meet in Room 101\, which is on the lower level near the Childcare Center. For more information about this group\, contact Beth Albright at albri003@umn.edu.  For more information about Moms In Prayer\, visit momsinprayer.org. \n 
URL:https://spdlc.org/event/moms-in-prayer-wayzata-high-school-orono-high-school-college-and-career-group/2024-01-11/
LOCATION:MN
CATEGORIES:Adults
ATTACH;FMTTYPE=image/png:https://spdlc.org/wp-content/uploads/2023/08/MomsInPrayer.png
END:VEVENT
BEGIN:VEVENT
DTSTART;TZID=America/Chicago:20240110T183000
DTEND;TZID=America/Chicago:20240110T193000
DTSTAMP:20260419T123012
CREATED:20231205T180128Z
LAST-MODIFIED:20231205T180129Z
UID:10004132-1704911400-1704915000@spdlc.org
SUMMARY:9th Grade Celebration of Passage
DESCRIPTION:This is a special gathering for the 9th grade confirmands\, their parents and prayer partners to appreciate the journey of faith that have been walking together.  This special event will be held on Wednesday evening\, January 10 beginning at 6:30 p.m. Confirmands are encouraged to arrive by 6:15 p.m. so they have time to get into their robes. Please park on the west side of the building and come in Door A. For more information\, please contact Olsen Pancoast at opancoast@spdlc.org
URL:https://spdlc.org/event/celebration-of-passage-2/
LOCATION:MN
CATEGORIES:High School,Worship
END:VEVENT
BEGIN:VEVENT
DTSTART;TZID=America/Chicago:20240110T130000
DTEND;TZID=America/Chicago:20240110T140000
DTSTAMP:20260419T123012
CREATED:20171226T213856Z
LAST-MODIFIED:20250305T191851Z
UID:10003463-1704891600-1704895200@spdlc.org
SUMMARY:Caregiver's Support Group
DESCRIPTION:A mutual support group and respite time for those who are providing personal nursing care for a spouse or family member at home. \nThe SPD Caregiver’s Support Group is meeting regularly in the Fireside Room Wednesdays at 1 p.m. If you are caring for a loved one and would like the support of others with shared experiences\, please join the group! 
URL:https://spdlc.org/event/caregivers/2024-01-10/
LOCATION:St. Philip the Deacon Lutheran Church\, 17205 County Road 6\, Plymouth\, MN\, 55447\, United States
CATEGORIES:Adults
GEO:44.994703;-93.497968
X-APPLE-STRUCTURED-LOCATION;VALUE=URI;X-ADDRESS=St. Philip the Deacon Lutheran Church 17205 County Road 6 Plymouth MN 55447 United States;X-APPLE-RADIUS=500;X-TITLE=17205 County Road 6:geo:-93.497968,44.994703
END:VEVENT
BEGIN:VEVENT
DTSTART;TZID=America/Chicago:20240110T093000
DTEND;TZID=America/Chicago:20240110T103000
DTSTAMP:20260419T123012
CREATED:20230920T201330Z
LAST-MODIFIED:20240221T170937Z
UID:10008444-1704879000-1704882600@spdlc.org
SUMMARY:SPD Bible Study
DESCRIPTION:Wednesday morning SPD Bible study group examines whole books of the Bible to understand the intent of the book\, its meaning within the Bible as a whole and what it meant to the people who first heard it. We take up theological topics directly related to understanding the Biblical text. New participants are always welcome! \nContact Joel Malmberg at joel.malmberg@gmail.com for more information. Meets weekly on Wednesday mornings during the school year at 9:30 a.m. in the Fireside Room.
URL:https://spdlc.org/event/mens-bible-study-2-2/2024-01-10/
LOCATION:MN
CATEGORIES:Adults
END:VEVENT
BEGIN:VEVENT
DTSTART;TZID=America/Chicago:20240110T063000
DTEND;TZID=America/Chicago:20240110T073000
DTSTAMP:20260419T123012
CREATED:20230816T200613Z
LAST-MODIFIED:20250507T144634Z
UID:10008110-1704868200-1704871800@spdlc.org
SUMMARY:Men's Bible Study
DESCRIPTION:Join us for the Wednesday Morning Men’s Bible Study & Fellowship. It’s open to men of all ages. Meets in the Fireside Room\, middle level. If you have questions\, contact Ed Wasz\, at 763-218-5351 or edwin.wasz@gmail.com. \n 
URL:https://spdlc.org/event/mens-bible-study-3/2024-01-10/
LOCATION:MN
CATEGORIES:Adults,Learning
ATTACH;FMTTYPE=image/jpeg:https://spdlc.s3.amazonaws.com/wp-content/uploads/2020/12/Resolutions-e1609341532977.jpg
END:VEVENT
BEGIN:VEVENT
DTSTART;TZID=America/Chicago:20240109T183000
DTEND;TZID=America/Chicago:20240109T193000
DTSTAMP:20260419T123012
CREATED:20230517T181720Z
LAST-MODIFIED:20241203T183026Z
UID:10007800-1704825000-1704828600@spdlc.org
SUMMARY:YogaFaith Tues Evening
DESCRIPTION:Connect to body and soul with this vinyasa flow class\, featuring prayer\, movement and devotions. Contact Amanda Berger at aberger@spdlc.org with any questions! \nJoin on Zoom \nMeeting ID: 190 431 409 / Passcode: Downdog
URL:https://spdlc.org/event/yogafaith-tues-evening/2024-01-09/
LOCATION:MN
CATEGORIES:Adults
ATTACH;FMTTYPE=image/png:https://spdlc.org/wp-content/uploads/2019/09/YogaFaith_stacked.fw_.png
END:VEVENT
BEGIN:VEVENT
DTSTART;TZID=America/Chicago:20240109T183000
DTEND;TZID=America/Chicago:20240109T193000
DTSTAMP:20260419T123012
CREATED:20171226T214931Z
LAST-MODIFIED:20241029T210124Z
UID:10003940-1704825000-1704828600@spdlc.org
SUMMARY:SPD Tuesday Night AA Group
DESCRIPTION:SPD hosts a local weekly meeting of Alcoholics Anonymous. This group is currently meeting via Zoom on Tuesday evenings at 6:30 p.m. year round. Please contact the Minnesota chapter of AA for information about joining this meeting.
URL:https://spdlc.org/event/spd-tuesday-night-aa-group/2024-01-09/
LOCATION:MN
CATEGORIES:Adults
END:VEVENT
BEGIN:VEVENT
DTSTART;TZID=America/Chicago:20240109T130000
DTEND;TZID=America/Chicago:20240109T140000
DTSTAMP:20260419T123012
CREATED:20180905T221828Z
LAST-MODIFIED:20240411T221629Z
UID:10005106-1704805200-1704808800@spdlc.org
SUMMARY:The Conversation
DESCRIPTION:A monthly meeting of adults to discuss a wide variety of fascinating topics. Whether you’re retired\, semi-retired\, or just happen to have the afternoon free\, join us for The Conversation! No registration required. \nContact Cindy Carlson for more information.
URL:https://spdlc.org/event/the-conversation-3-2019-01-08/2024-01-09/
LOCATION:MN
CATEGORIES:Adults
ATTACH;FMTTYPE=image/png:https://spdlc.org/wp-content/uploads/2018/09/TheConversation-w.fw_.png
END:VEVENT
BEGIN:VEVENT
DTSTART;TZID=America/Chicago:20240109T080000
DTEND;TZID=America/Chicago:20240109T100000
DTSTAMP:20260419T123012
CREATED:20170829T175954Z
LAST-MODIFIED:20241218T200553Z
UID:10001407-1704787200-1704794400@spdlc.org
SUMMARY:Men's Discussion Group
DESCRIPTION:The Tuesday Men’s Discussion Group is a welcoming group of friends\, meeting on Tuesdays at 8 a.m. Previously meeting on-line\, this group will begin in-person meetings on May 18\, 2021. If you’d like to join this group\, please send an email to info@spdlc.org and we’ll get you connected.
URL:https://spdlc.org/event/mens-discussion-group/2024-01-09/
LOCATION:MN
CATEGORIES:Adults
END:VEVENT
BEGIN:VEVENT
DTSTART;TZID=America/Chicago:20240108T113000
DTEND;TZID=America/Chicago:20240108T123000
DTSTAMP:20260419T123012
CREATED:20231205T212234Z
LAST-MODIFIED:20231207T172141Z
UID:10009261-1704713400-1704717000@spdlc.org
SUMMARY:Healing Prayer
DESCRIPTION:The Healing Prayer group meets twice monthly to pray together for the needs of the congregation and its members\, and for other needs as identified. For information\, contact Pastor Valerie Strand Patterson.
URL:https://spdlc.org/event/healing-prayer-2-2/2024-01-08/
LOCATION:MN
CATEGORIES:Adults
ATTACH;FMTTYPE=image/jpeg:https://spdlc.s3.amazonaws.com/wp-content/uploads/2020/10/prayer-1.jpg
END:VEVENT
BEGIN:VEVENT
DTSTART;TZID=America/Chicago:20240107T104500
DTEND;TZID=America/Chicago:20240107T114500
DTSTAMP:20260419T123012
CREATED:20170830T211950Z
LAST-MODIFIED:20250420T040712Z
UID:10000561-1704624300-1704627900@spdlc.org
SUMMARY:Worship at 10:45 a.m.
DESCRIPTION:Sunday – 10:45 a.m. Join us for this more Contemporary style of worship!
URL:https://spdlc.org/event/worship-11/2024-01-07/
LOCATION:MN
CATEGORIES:Worship
END:VEVENT
BEGIN:VEVENT
DTSTART;TZID=America/Chicago:20240107T093000
DTEND;TZID=America/Chicago:20240107T103000
DTSTAMP:20260419T123012
CREATED:20170830T211820Z
LAST-MODIFIED:20240217T193906Z
UID:10000102-1704619800-1704623400@spdlc.org
SUMMARY:Worship at 9:30 a.m.
DESCRIPTION:Sunday – 9:30 a.m. Attend in person or join us at spdlc.org/livestream for a traditional style of worship with music led by our organist.
URL:https://spdlc.org/event/worship-945/2024-01-07/
LOCATION:MN
CATEGORIES:Worship
END:VEVENT
BEGIN:VEVENT
DTSTART;TZID=America/Chicago:20240107T081500
DTEND;TZID=America/Chicago:20240107T091500
DTSTAMP:20260419T123012
CREATED:20170830T211659Z
LAST-MODIFIED:20250420T040611Z
UID:10000331-1704615300-1704618900@spdlc.org
SUMMARY:Worship at 8:15 a.m.
DESCRIPTION:Sunday – 8:15 a.m. Join us for a traditional worship service.
URL:https://spdlc.org/event/worship-815/2024-01-07/
LOCATION:St. Philip the Deacon Lutheran Church\, 17205 County Road 6\, Plymouth\, MN\, 55447\, United States
CATEGORIES:Worship
GEO:44.994703;-93.497968
X-APPLE-STRUCTURED-LOCATION;VALUE=URI;X-ADDRESS=St. Philip the Deacon Lutheran Church 17205 County Road 6 Plymouth MN 55447 United States;X-APPLE-RADIUS=500;X-TITLE=17205 County Road 6:geo:-93.497968,44.994703
END:VEVENT
BEGIN:VEVENT
DTSTART;TZID=America/Chicago:20240106T170000
DTEND;TZID=America/Chicago:20240106T180000
DTSTAMP:20260419T123012
CREATED:20230516T201158Z
LAST-MODIFIED:20231002T180139Z
UID:10007248-1704560400-1704564000@spdlc.org
SUMMARY:Worship at 5 p.m.
DESCRIPTION:Saturday 5 p.m. worship is a blend of traditional and contemporary styles\, with Holy Communion.
URL:https://spdlc.org/event/worship-at-5-p-m/2024-01-06/
LOCATION:MN
CATEGORIES:Worship
END:VEVENT
BEGIN:VEVENT
DTSTART;TZID=America/Chicago:20240104T190000
DTEND;TZID=America/Chicago:20240104T200000
DTSTAMP:20260419T123012
CREATED:20180905T220112Z
LAST-MODIFIED:20230303T191415Z
UID:10005279-1704394800-1704398400@spdlc.org
SUMMARY:Sanctuary of Survivors
DESCRIPTION:A support meeting for those who have lost someone they love to suicide. You are welcome no matter where you are on your journey of grief or journey of faith. For more information\, contact Pastor Valerie Strand Patterson. We meet the 1st and 3rd Thursdays of the month at 7:00 p.m.
URL:https://spdlc.org/event/sanctuary-of-survivors/2024-01-04/
LOCATION:MN
CATEGORIES:Adults
END:VEVENT
BEGIN:VEVENT
DTSTART;TZID=America/Chicago:20240104T093000
DTEND;TZID=America/Chicago:20240104T103000
DTSTAMP:20260419T123012
CREATED:20230816T204546Z
LAST-MODIFIED:20231207T170504Z
UID:10008233-1704360600-1704364200@spdlc.org
SUMMARY:Moms In Prayer – High School\, College & Career Group
DESCRIPTION:Thursday mornings at 9:30 a.m.\, Beginning Thursday\, Sept. 21 \nAll moms of WHS students\, OHS students and adult children (college or career) are invited to meet on Thursdays from 9:30- 10:30 a.m. to pray for our schools and kids. We welcome you whether you are brand new to praying or a seasoned prayer warrior. We will meet in Room 101\, which is on the lower level near the Childcare Center. For more information about this group\, contact Beth Albright at albri003@umn.edu.  For more information about Moms In Prayer\, visit momsinprayer.org. \n 
URL:https://spdlc.org/event/moms-in-prayer-wayzata-high-school-orono-high-school-college-and-career-group/2024-01-04/
LOCATION:MN
CATEGORIES:Adults
ATTACH;FMTTYPE=image/png:https://spdlc.org/wp-content/uploads/2023/08/MomsInPrayer.png
END:VEVENT
BEGIN:VEVENT
DTSTART;TZID=America/Chicago:20240103T180000
DTEND;TZID=America/Chicago:20240103T200000
DTSTAMP:20260419T123012
CREATED:20180614T135913Z
LAST-MODIFIED:20240314T200926Z
UID:10008272-1704304800-1704312000@spdlc.org
SUMMARY:Spirit Beads
DESCRIPTION:At our Spirit Beads workshops\, we create beautiful and meaningful pieces of beading art that enhance our spiritual and meditational practices\, as well as creating gifts for others. Enjoy some creative/meditative time making a meaningful devotional art piece.  Please register online at spdlc.org/register \nFeb. 26\, 3-7 p.m. Open Studio \nMarch 18\, 3-7 p.m. Open Studio \nApril 29\, 3-7 p.m. Open Studio \nMay 20\, 3-5 p.m. or 6-8 p.m.
URL:https://spdlc.org/event/summer-spirit-bead-workshop/2024-01-03/2/
LOCATION:MN
CATEGORIES:Adults,Create,High School
ATTACH;FMTTYPE=image/jpeg:https://spdlc.s3.amazonaws.com/wp-content/uploads/2017/10/PrayerChains.jpg
END:VEVENT
END:VCALENDAR