BEGIN:VCALENDAR
VERSION:2.0
PRODID:-//St. Philip The Deacon - ECPv6.15.18//NONSGML v1.0//EN
CALSCALE:GREGORIAN
METHOD:PUBLISH
X-WR-CALNAME:St. Philip The Deacon
X-ORIGINAL-URL:https://spdlc.org
X-WR-CALDESC:Events for St. Philip The Deacon
REFRESH-INTERVAL;VALUE=DURATION:PT1H
X-Robots-Tag:noindex
X-PUBLISHED-TTL:PT1H
BEGIN:VTIMEZONE
TZID:America/Chicago
BEGIN:DAYLIGHT
TZOFFSETFROM:-0600
TZOFFSETTO:-0500
TZNAME:CDT
DTSTART:20250309T080000
END:DAYLIGHT
BEGIN:STANDARD
TZOFFSETFROM:-0500
TZOFFSETTO:-0600
TZNAME:CST
DTSTART:20251102T070000
END:STANDARD
BEGIN:DAYLIGHT
TZOFFSETFROM:-0600
TZOFFSETTO:-0500
TZNAME:CDT
DTSTART:20260308T080000
END:DAYLIGHT
BEGIN:STANDARD
TZOFFSETFROM:-0500
TZOFFSETTO:-0600
TZNAME:CST
DTSTART:20261101T070000
END:STANDARD
BEGIN:DAYLIGHT
TZOFFSETFROM:-0600
TZOFFSETTO:-0500
TZNAME:CDT
DTSTART:20270314T080000
END:DAYLIGHT
BEGIN:STANDARD
TZOFFSETFROM:-0500
TZOFFSETTO:-0600
TZNAME:CST
DTSTART:20271107T070000
END:STANDARD
END:VTIMEZONE
BEGIN:VEVENT
DTSTART;TZID=America/Chicago:20260905T170000
DTEND;TZID=America/Chicago:20260905T180000
DTSTAMP:20260420T091332
CREATED:20240217T193320Z
LAST-MODIFIED:20240217T193438Z
UID:10007387-1788627600-1788631200@spdlc.org
SUMMARY:Worship at 5 p.m.
DESCRIPTION:Saturday 5 p.m. worship is a blend of traditional and contemporary styles\, with Holy Communion.
URL:https://spdlc.org/event/worship-at-5-p-m-2/2026-09-05/
LOCATION:MN
CATEGORIES:Worship
END:VEVENT
BEGIN:VEVENT
DTSTART;TZID=America/Chicago:20260906T081500
DTEND;TZID=America/Chicago:20260906T091500
DTSTAMP:20260420T091332
CREATED:20170830T211659Z
LAST-MODIFIED:20250420T040611Z
UID:10013356-1788682500-1788686100@spdlc.org
SUMMARY:Worship at 8:15 a.m.
DESCRIPTION:Sunday – 8:15 a.m. Join us for a traditional worship service.
URL:https://spdlc.org/event/worship-815/2026-09-06/
LOCATION:St. Philip the Deacon Lutheran Church\, 17205 County Road 6\, Plymouth\, MN\, 55447\, United States
CATEGORIES:Worship
GEO:44.994703;-93.497968
X-APPLE-STRUCTURED-LOCATION;VALUE=URI;X-ADDRESS=St. Philip the Deacon Lutheran Church 17205 County Road 6 Plymouth MN 55447 United States;X-APPLE-RADIUS=500;X-TITLE=17205 County Road 6:geo:-93.497968,44.994703
END:VEVENT
BEGIN:VEVENT
DTSTART;TZID=America/Chicago:20260906T081500
DTEND;TZID=America/Chicago:20260906T091500
DTSTAMP:20260420T091332
CREATED:20250420T040340Z
LAST-MODIFIED:20250420T041016Z
UID:10000470-1788682500-1788686100@spdlc.org
SUMMARY:Worship at 8:15 a.m.
DESCRIPTION:Sunday – 8:15 a.m. Join us for a traditional worship service.
URL:https://spdlc.org/event/worship-815-2/2026-09-06/
LOCATION:St. Philip the Deacon Lutheran Church\, 17205 County Road 6\, Plymouth\, MN\, 55447\, United States
CATEGORIES:Worship
GEO:44.994703;-93.497968
X-APPLE-STRUCTURED-LOCATION;VALUE=URI;X-ADDRESS=St. Philip the Deacon Lutheran Church 17205 County Road 6 Plymouth MN 55447 United States;X-APPLE-RADIUS=500;X-TITLE=17205 County Road 6:geo:-93.497968,44.994703
END:VEVENT
BEGIN:VEVENT
DTSTART;TZID=America/Chicago:20260906T093000
DTEND;TZID=America/Chicago:20260906T103000
DTSTAMP:20260420T091332
CREATED:20170830T211820Z
LAST-MODIFIED:20240217T193906Z
UID:10000241-1788687000-1788690600@spdlc.org
SUMMARY:Worship at 9:30 a.m.
DESCRIPTION:Sunday – 9:30 a.m. Attend in person or join us at spdlc.org/livestream for a traditional style of worship with music led by our organist.
URL:https://spdlc.org/event/worship-945/2026-09-06/
LOCATION:MN
CATEGORIES:Worship
END:VEVENT
BEGIN:VEVENT
DTSTART;TZID=America/Chicago:20260906T104500
DTEND;TZID=America/Chicago:20260906T114500
DTSTAMP:20260420T091332
CREATED:20170830T211950Z
LAST-MODIFIED:20250420T040712Z
UID:10000700-1788691500-1788695100@spdlc.org
SUMMARY:Worship at 10:45 a.m.
DESCRIPTION:Sunday – 10:45 a.m. Join us for this more Contemporary style of worship!
URL:https://spdlc.org/event/worship-11/2026-09-06/
LOCATION:MN
CATEGORIES:Worship
END:VEVENT
BEGIN:VEVENT
DTSTART;TZID=America/Chicago:20260912T170000
DTEND;TZID=America/Chicago:20260912T180000
DTSTAMP:20260420T091332
CREATED:20240217T193320Z
LAST-MODIFIED:20240217T193438Z
UID:10007388-1789232400-1789236000@spdlc.org
SUMMARY:Worship at 5 p.m.
DESCRIPTION:Saturday 5 p.m. worship is a blend of traditional and contemporary styles\, with Holy Communion.
URL:https://spdlc.org/event/worship-at-5-p-m-2/2026-09-12/
LOCATION:MN
CATEGORIES:Worship
END:VEVENT
BEGIN:VEVENT
DTSTART;TZID=America/Chicago:20260913T081500
DTEND;TZID=America/Chicago:20260913T091500
DTSTAMP:20260420T091332
CREATED:20170830T211659Z
LAST-MODIFIED:20250420T040611Z
UID:10013357-1789287300-1789290900@spdlc.org
SUMMARY:Worship at 8:15 a.m.
DESCRIPTION:Sunday – 8:15 a.m. Join us for a traditional worship service.
URL:https://spdlc.org/event/worship-815/2026-09-13/
LOCATION:St. Philip the Deacon Lutheran Church\, 17205 County Road 6\, Plymouth\, MN\, 55447\, United States
CATEGORIES:Worship
GEO:44.994703;-93.497968
X-APPLE-STRUCTURED-LOCATION;VALUE=URI;X-ADDRESS=St. Philip the Deacon Lutheran Church 17205 County Road 6 Plymouth MN 55447 United States;X-APPLE-RADIUS=500;X-TITLE=17205 County Road 6:geo:-93.497968,44.994703
END:VEVENT
BEGIN:VEVENT
DTSTART;TZID=America/Chicago:20260913T081500
DTEND;TZID=America/Chicago:20260913T091500
DTSTAMP:20260420T091332
CREATED:20250420T040340Z
LAST-MODIFIED:20250420T041016Z
UID:10000471-1789287300-1789290900@spdlc.org
SUMMARY:Worship at 8:15 a.m.
DESCRIPTION:Sunday – 8:15 a.m. Join us for a traditional worship service.
URL:https://spdlc.org/event/worship-815-2/2026-09-13/
LOCATION:St. Philip the Deacon Lutheran Church\, 17205 County Road 6\, Plymouth\, MN\, 55447\, United States
CATEGORIES:Worship
GEO:44.994703;-93.497968
X-APPLE-STRUCTURED-LOCATION;VALUE=URI;X-ADDRESS=St. Philip the Deacon Lutheran Church 17205 County Road 6 Plymouth MN 55447 United States;X-APPLE-RADIUS=500;X-TITLE=17205 County Road 6:geo:-93.497968,44.994703
END:VEVENT
BEGIN:VEVENT
DTSTART;TZID=America/Chicago:20260913T093000
DTEND;TZID=America/Chicago:20260913T103000
DTSTAMP:20260420T091332
CREATED:20170830T211820Z
LAST-MODIFIED:20240217T193906Z
UID:10000242-1789291800-1789295400@spdlc.org
SUMMARY:Worship at 9:30 a.m.
DESCRIPTION:Sunday – 9:30 a.m. Attend in person or join us at spdlc.org/livestream for a traditional style of worship with music led by our organist.
URL:https://spdlc.org/event/worship-945/2026-09-13/
LOCATION:MN
CATEGORIES:Worship
END:VEVENT
BEGIN:VEVENT
DTSTART;TZID=America/Chicago:20260913T104500
DTEND;TZID=America/Chicago:20260913T114500
DTSTAMP:20260420T091332
CREATED:20170830T211950Z
LAST-MODIFIED:20250420T040712Z
UID:10000701-1789296300-1789299900@spdlc.org
SUMMARY:Worship at 10:45 a.m.
DESCRIPTION:Sunday – 10:45 a.m. Join us for this more Contemporary style of worship!
URL:https://spdlc.org/event/worship-11/2026-09-13/
LOCATION:MN
CATEGORIES:Worship
END:VEVENT
BEGIN:VEVENT
DTSTART;TZID=America/Chicago:20260919T170000
DTEND;TZID=America/Chicago:20260919T180000
DTSTAMP:20260420T091332
CREATED:20240217T193320Z
LAST-MODIFIED:20240217T193438Z
UID:10007389-1789837200-1789840800@spdlc.org
SUMMARY:Worship at 5 p.m.
DESCRIPTION:Saturday 5 p.m. worship is a blend of traditional and contemporary styles\, with Holy Communion.
URL:https://spdlc.org/event/worship-at-5-p-m-2/2026-09-19/
LOCATION:MN
CATEGORIES:Worship
END:VEVENT
BEGIN:VEVENT
DTSTART;TZID=America/Chicago:20260920T081500
DTEND;TZID=America/Chicago:20260920T091500
DTSTAMP:20260420T091332
CREATED:20170830T211659Z
LAST-MODIFIED:20250420T040611Z
UID:10013358-1789892100-1789895700@spdlc.org
SUMMARY:Worship at 8:15 a.m.
DESCRIPTION:Sunday – 8:15 a.m. Join us for a traditional worship service.
URL:https://spdlc.org/event/worship-815/2026-09-20/
LOCATION:St. Philip the Deacon Lutheran Church\, 17205 County Road 6\, Plymouth\, MN\, 55447\, United States
CATEGORIES:Worship
GEO:44.994703;-93.497968
X-APPLE-STRUCTURED-LOCATION;VALUE=URI;X-ADDRESS=St. Philip the Deacon Lutheran Church 17205 County Road 6 Plymouth MN 55447 United States;X-APPLE-RADIUS=500;X-TITLE=17205 County Road 6:geo:-93.497968,44.994703
END:VEVENT
BEGIN:VEVENT
DTSTART;TZID=America/Chicago:20260920T081500
DTEND;TZID=America/Chicago:20260920T091500
DTSTAMP:20260420T091332
CREATED:20250420T040340Z
LAST-MODIFIED:20250420T041016Z
UID:10000472-1789892100-1789895700@spdlc.org
SUMMARY:Worship at 8:15 a.m.
DESCRIPTION:Sunday – 8:15 a.m. Join us for a traditional worship service.
URL:https://spdlc.org/event/worship-815-2/2026-09-20/
LOCATION:St. Philip the Deacon Lutheran Church\, 17205 County Road 6\, Plymouth\, MN\, 55447\, United States
CATEGORIES:Worship
GEO:44.994703;-93.497968
X-APPLE-STRUCTURED-LOCATION;VALUE=URI;X-ADDRESS=St. Philip the Deacon Lutheran Church 17205 County Road 6 Plymouth MN 55447 United States;X-APPLE-RADIUS=500;X-TITLE=17205 County Road 6:geo:-93.497968,44.994703
END:VEVENT
BEGIN:VEVENT
DTSTART;TZID=America/Chicago:20260920T093000
DTEND;TZID=America/Chicago:20260920T103000
DTSTAMP:20260420T091332
CREATED:20170830T211820Z
LAST-MODIFIED:20240217T193906Z
UID:10000243-1789896600-1789900200@spdlc.org
SUMMARY:Worship at 9:30 a.m.
DESCRIPTION:Sunday – 9:30 a.m. Attend in person or join us at spdlc.org/livestream for a traditional style of worship with music led by our organist.
URL:https://spdlc.org/event/worship-945/2026-09-20/
LOCATION:MN
CATEGORIES:Worship
END:VEVENT
BEGIN:VEVENT
DTSTART;TZID=America/Chicago:20260920T104500
DTEND;TZID=America/Chicago:20260920T114500
DTSTAMP:20260420T091332
CREATED:20170830T211950Z
LAST-MODIFIED:20250420T040712Z
UID:10000702-1789901100-1789904700@spdlc.org
SUMMARY:Worship at 10:45 a.m.
DESCRIPTION:Sunday – 10:45 a.m. Join us for this more Contemporary style of worship!
URL:https://spdlc.org/event/worship-11/2026-09-20/
LOCATION:MN
CATEGORIES:Worship
END:VEVENT
BEGIN:VEVENT
DTSTART;TZID=America/Chicago:20260926T170000
DTEND;TZID=America/Chicago:20260926T180000
DTSTAMP:20260420T091332
CREATED:20240217T193320Z
LAST-MODIFIED:20240217T193438Z
UID:10007390-1790442000-1790445600@spdlc.org
SUMMARY:Worship at 5 p.m.
DESCRIPTION:Saturday 5 p.m. worship is a blend of traditional and contemporary styles\, with Holy Communion.
URL:https://spdlc.org/event/worship-at-5-p-m-2/2026-09-26/
LOCATION:MN
CATEGORIES:Worship
END:VEVENT
BEGIN:VEVENT
DTSTART;TZID=America/Chicago:20260927T081500
DTEND;TZID=America/Chicago:20260927T091500
DTSTAMP:20260420T091332
CREATED:20170830T211659Z
LAST-MODIFIED:20250420T040611Z
UID:10013359-1790496900-1790500500@spdlc.org
SUMMARY:Worship at 8:15 a.m.
DESCRIPTION:Sunday – 8:15 a.m. Join us for a traditional worship service.
URL:https://spdlc.org/event/worship-815/2026-09-27/
LOCATION:St. Philip the Deacon Lutheran Church\, 17205 County Road 6\, Plymouth\, MN\, 55447\, United States
CATEGORIES:Worship
GEO:44.994703;-93.497968
X-APPLE-STRUCTURED-LOCATION;VALUE=URI;X-ADDRESS=St. Philip the Deacon Lutheran Church 17205 County Road 6 Plymouth MN 55447 United States;X-APPLE-RADIUS=500;X-TITLE=17205 County Road 6:geo:-93.497968,44.994703
END:VEVENT
BEGIN:VEVENT
DTSTART;TZID=America/Chicago:20260927T081500
DTEND;TZID=America/Chicago:20260927T091500
DTSTAMP:20260420T091332
CREATED:20250420T040340Z
LAST-MODIFIED:20250420T041016Z
UID:10000473-1790496900-1790500500@spdlc.org
SUMMARY:Worship at 8:15 a.m.
DESCRIPTION:Sunday – 8:15 a.m. Join us for a traditional worship service.
URL:https://spdlc.org/event/worship-815-2/2026-09-27/
LOCATION:St. Philip the Deacon Lutheran Church\, 17205 County Road 6\, Plymouth\, MN\, 55447\, United States
CATEGORIES:Worship
GEO:44.994703;-93.497968
X-APPLE-STRUCTURED-LOCATION;VALUE=URI;X-ADDRESS=St. Philip the Deacon Lutheran Church 17205 County Road 6 Plymouth MN 55447 United States;X-APPLE-RADIUS=500;X-TITLE=17205 County Road 6:geo:-93.497968,44.994703
END:VEVENT
BEGIN:VEVENT
DTSTART;TZID=America/Chicago:20260927T093000
DTEND;TZID=America/Chicago:20260927T103000
DTSTAMP:20260420T091332
CREATED:20170830T211820Z
LAST-MODIFIED:20240217T193906Z
UID:10000244-1790501400-1790505000@spdlc.org
SUMMARY:Worship at 9:30 a.m.
DESCRIPTION:Sunday – 9:30 a.m. Attend in person or join us at spdlc.org/livestream for a traditional style of worship with music led by our organist.
URL:https://spdlc.org/event/worship-945/2026-09-27/
LOCATION:MN
CATEGORIES:Worship
END:VEVENT
BEGIN:VEVENT
DTSTART;TZID=America/Chicago:20260927T104500
DTEND;TZID=America/Chicago:20260927T114500
DTSTAMP:20260420T091332
CREATED:20170830T211950Z
LAST-MODIFIED:20250420T040712Z
UID:10000703-1790505900-1790509500@spdlc.org
SUMMARY:Worship at 10:45 a.m.
DESCRIPTION:Sunday – 10:45 a.m. Join us for this more Contemporary style of worship!
URL:https://spdlc.org/event/worship-11/2026-09-27/
LOCATION:MN
CATEGORIES:Worship
END:VEVENT
BEGIN:VEVENT
DTSTART;TZID=America/Chicago:20261003T170000
DTEND;TZID=America/Chicago:20261003T180000
DTSTAMP:20260420T091332
CREATED:20240217T193320Z
LAST-MODIFIED:20240217T193438Z
UID:10007391-1791046800-1791050400@spdlc.org
SUMMARY:Worship at 5 p.m.
DESCRIPTION:Saturday 5 p.m. worship is a blend of traditional and contemporary styles\, with Holy Communion.
URL:https://spdlc.org/event/worship-at-5-p-m-2/2026-10-03/
LOCATION:MN
CATEGORIES:Worship
END:VEVENT
BEGIN:VEVENT
DTSTART;TZID=America/Chicago:20261004T081500
DTEND;TZID=America/Chicago:20261004T091500
DTSTAMP:20260420T091332
CREATED:20170830T211659Z
LAST-MODIFIED:20250420T040611Z
UID:10013360-1791101700-1791105300@spdlc.org
SUMMARY:Worship at 8:15 a.m.
DESCRIPTION:Sunday – 8:15 a.m. Join us for a traditional worship service.
URL:https://spdlc.org/event/worship-815/2026-10-04/
LOCATION:St. Philip the Deacon Lutheran Church\, 17205 County Road 6\, Plymouth\, MN\, 55447\, United States
CATEGORIES:Worship
GEO:44.994703;-93.497968
X-APPLE-STRUCTURED-LOCATION;VALUE=URI;X-ADDRESS=St. Philip the Deacon Lutheran Church 17205 County Road 6 Plymouth MN 55447 United States;X-APPLE-RADIUS=500;X-TITLE=17205 County Road 6:geo:-93.497968,44.994703
END:VEVENT
BEGIN:VEVENT
DTSTART;TZID=America/Chicago:20261004T081500
DTEND;TZID=America/Chicago:20261004T091500
DTSTAMP:20260420T091332
CREATED:20250420T040340Z
LAST-MODIFIED:20250420T041016Z
UID:10000474-1791101700-1791105300@spdlc.org
SUMMARY:Worship at 8:15 a.m.
DESCRIPTION:Sunday – 8:15 a.m. Join us for a traditional worship service.
URL:https://spdlc.org/event/worship-815-2/2026-10-04/
LOCATION:St. Philip the Deacon Lutheran Church\, 17205 County Road 6\, Plymouth\, MN\, 55447\, United States
CATEGORIES:Worship
GEO:44.994703;-93.497968
X-APPLE-STRUCTURED-LOCATION;VALUE=URI;X-ADDRESS=St. Philip the Deacon Lutheran Church 17205 County Road 6 Plymouth MN 55447 United States;X-APPLE-RADIUS=500;X-TITLE=17205 County Road 6:geo:-93.497968,44.994703
END:VEVENT
BEGIN:VEVENT
DTSTART;TZID=America/Chicago:20261004T093000
DTEND;TZID=America/Chicago:20261004T103000
DTSTAMP:20260420T091332
CREATED:20170830T211820Z
LAST-MODIFIED:20240217T193906Z
UID:10000245-1791106200-1791109800@spdlc.org
SUMMARY:Worship at 9:30 a.m.
DESCRIPTION:Sunday – 9:30 a.m. Attend in person or join us at spdlc.org/livestream for a traditional style of worship with music led by our organist.
URL:https://spdlc.org/event/worship-945/2026-10-04/
LOCATION:MN
CATEGORIES:Worship
END:VEVENT
BEGIN:VEVENT
DTSTART;TZID=America/Chicago:20261004T104500
DTEND;TZID=America/Chicago:20261004T114500
DTSTAMP:20260420T091332
CREATED:20170830T211950Z
LAST-MODIFIED:20250420T040712Z
UID:10000704-1791110700-1791114300@spdlc.org
SUMMARY:Worship at 10:45 a.m.
DESCRIPTION:Sunday – 10:45 a.m. Join us for this more Contemporary style of worship!
URL:https://spdlc.org/event/worship-11/2026-10-04/
LOCATION:MN
CATEGORIES:Worship
END:VEVENT
BEGIN:VEVENT
DTSTART;TZID=America/Chicago:20261010T170000
DTEND;TZID=America/Chicago:20261010T180000
DTSTAMP:20260420T091332
CREATED:20240217T193320Z
LAST-MODIFIED:20240217T193438Z
UID:10007392-1791651600-1791655200@spdlc.org
SUMMARY:Worship at 5 p.m.
DESCRIPTION:Saturday 5 p.m. worship is a blend of traditional and contemporary styles\, with Holy Communion.
URL:https://spdlc.org/event/worship-at-5-p-m-2/2026-10-10/
LOCATION:MN
CATEGORIES:Worship
END:VEVENT
BEGIN:VEVENT
DTSTART;TZID=America/Chicago:20261011T081500
DTEND;TZID=America/Chicago:20261011T091500
DTSTAMP:20260420T091332
CREATED:20170830T211659Z
LAST-MODIFIED:20250420T040611Z
UID:10013361-1791706500-1791710100@spdlc.org
SUMMARY:Worship at 8:15 a.m.
DESCRIPTION:Sunday – 8:15 a.m. Join us for a traditional worship service.
URL:https://spdlc.org/event/worship-815/2026-10-11/
LOCATION:St. Philip the Deacon Lutheran Church\, 17205 County Road 6\, Plymouth\, MN\, 55447\, United States
CATEGORIES:Worship
GEO:44.994703;-93.497968
X-APPLE-STRUCTURED-LOCATION;VALUE=URI;X-ADDRESS=St. Philip the Deacon Lutheran Church 17205 County Road 6 Plymouth MN 55447 United States;X-APPLE-RADIUS=500;X-TITLE=17205 County Road 6:geo:-93.497968,44.994703
END:VEVENT
BEGIN:VEVENT
DTSTART;TZID=America/Chicago:20261011T081500
DTEND;TZID=America/Chicago:20261011T091500
DTSTAMP:20260420T091332
CREATED:20250420T040340Z
LAST-MODIFIED:20250420T041016Z
UID:10000475-1791706500-1791710100@spdlc.org
SUMMARY:Worship at 8:15 a.m.
DESCRIPTION:Sunday – 8:15 a.m. Join us for a traditional worship service.
URL:https://spdlc.org/event/worship-815-2/2026-10-11/
LOCATION:St. Philip the Deacon Lutheran Church\, 17205 County Road 6\, Plymouth\, MN\, 55447\, United States
CATEGORIES:Worship
GEO:44.994703;-93.497968
X-APPLE-STRUCTURED-LOCATION;VALUE=URI;X-ADDRESS=St. Philip the Deacon Lutheran Church 17205 County Road 6 Plymouth MN 55447 United States;X-APPLE-RADIUS=500;X-TITLE=17205 County Road 6:geo:-93.497968,44.994703
END:VEVENT
BEGIN:VEVENT
DTSTART;TZID=America/Chicago:20261011T093000
DTEND;TZID=America/Chicago:20261011T103000
DTSTAMP:20260420T091332
CREATED:20170830T211820Z
LAST-MODIFIED:20240217T193906Z
UID:10000246-1791711000-1791714600@spdlc.org
SUMMARY:Worship at 9:30 a.m.
DESCRIPTION:Sunday – 9:30 a.m. Attend in person or join us at spdlc.org/livestream for a traditional style of worship with music led by our organist.
URL:https://spdlc.org/event/worship-945/2026-10-11/
LOCATION:MN
CATEGORIES:Worship
END:VEVENT
BEGIN:VEVENT
DTSTART;TZID=America/Chicago:20261011T104500
DTEND;TZID=America/Chicago:20261011T114500
DTSTAMP:20260420T091332
CREATED:20170830T211950Z
LAST-MODIFIED:20250420T040712Z
UID:10000705-1791715500-1791719100@spdlc.org
SUMMARY:Worship at 10:45 a.m.
DESCRIPTION:Sunday – 10:45 a.m. Join us for this more Contemporary style of worship!
URL:https://spdlc.org/event/worship-11/2026-10-11/
LOCATION:MN
CATEGORIES:Worship
END:VEVENT
END:VCALENDAR