BEGIN:VCALENDAR
VERSION:2.0
PRODID:-//St. Philip The Deacon - ECPv6.15.18//NONSGML v1.0//EN
CALSCALE:GREGORIAN
METHOD:PUBLISH
X-WR-CALNAME:St. Philip The Deacon
X-ORIGINAL-URL:https://spdlc.org
X-WR-CALDESC:Events for St. Philip The Deacon
REFRESH-INTERVAL;VALUE=DURATION:PT1H
X-Robots-Tag:noindex
X-PUBLISHED-TTL:PT1H
BEGIN:VTIMEZONE
TZID:America/Chicago
BEGIN:DAYLIGHT
TZOFFSETFROM:-0600
TZOFFSETTO:-0500
TZNAME:CDT
DTSTART:20230312T080000
END:DAYLIGHT
BEGIN:STANDARD
TZOFFSETFROM:-0500
TZOFFSETTO:-0600
TZNAME:CST
DTSTART:20231105T070000
END:STANDARD
BEGIN:DAYLIGHT
TZOFFSETFROM:-0600
TZOFFSETTO:-0500
TZNAME:CDT
DTSTART:20240310T080000
END:DAYLIGHT
BEGIN:STANDARD
TZOFFSETFROM:-0500
TZOFFSETTO:-0600
TZNAME:CST
DTSTART:20241103T070000
END:STANDARD
BEGIN:DAYLIGHT
TZOFFSETFROM:-0600
TZOFFSETTO:-0500
TZNAME:CDT
DTSTART:20250309T080000
END:DAYLIGHT
BEGIN:STANDARD
TZOFFSETFROM:-0500
TZOFFSETTO:-0600
TZNAME:CST
DTSTART:20251102T070000
END:STANDARD
END:VTIMEZONE
BEGIN:VEVENT
DTSTART;TZID=America/Chicago:20241218T183000
DTEND;TZID=America/Chicago:20241218T193000
DTSTAMP:20260424T111010
CREATED:20230912T192744Z
LAST-MODIFIED:20240918T200709Z
UID:10011402-1734546600-1734550200@spdlc.org
SUMMARY:Confirmation - Middle School
DESCRIPTION:Confirmation classes are for students in grades 6 – 8 and culminate with the Rite of Confirmation in January of the student’s 9th grade year. Pizza & Play will take place each Wednesday evening from 5:30 – 6:30 p.m. when Confirmation is meeting. Drop off your child or come in and have pizza $1/slice. Punch cards are available for purchase at $10 each: click to purchase. \nPlease look at the 2024-2025 Middle School Calendar. There are some nights when Confirmation will not meet or will have special programming such as a Service night. \nPlease register at spdlc.org/register
URL:https://spdlc.org/event/confirmation-2-2/2024-12-18/
CATEGORIES:Middle School
ATTACH;FMTTYPE=image/png:https://spdlc.org/wp-content/uploads/2023/09/WaterFlame_red_blue.fw_.png
END:VEVENT
BEGIN:VEVENT
DTSTART;TZID=America/Chicago:20241211T183000
DTEND;TZID=America/Chicago:20241211T193000
DTSTAMP:20260424T111010
CREATED:20230912T192744Z
LAST-MODIFIED:20240918T200709Z
UID:10011401-1733941800-1733945400@spdlc.org
SUMMARY:Confirmation - Middle School
DESCRIPTION:Confirmation classes are for students in grades 6 – 8 and culminate with the Rite of Confirmation in January of the student’s 9th grade year. Pizza & Play will take place each Wednesday evening from 5:30 – 6:30 p.m. when Confirmation is meeting. Drop off your child or come in and have pizza $1/slice. Punch cards are available for purchase at $10 each: click to purchase. \nPlease look at the 2024-2025 Middle School Calendar. There are some nights when Confirmation will not meet or will have special programming such as a Service night. \nPlease register at spdlc.org/register
URL:https://spdlc.org/event/confirmation-2-2/2024-12-11/
CATEGORIES:Middle School
ATTACH;FMTTYPE=image/png:https://spdlc.org/wp-content/uploads/2023/09/WaterFlame_red_blue.fw_.png
END:VEVENT
BEGIN:VEVENT
DTSTART;TZID=America/Chicago:20241211T171500
DTEND;TZID=America/Chicago:20241211T175500
DTSTAMP:20260424T111010
CREATED:20240717T211644Z
LAST-MODIFIED:20241218T195553Z
UID:10010800-1733937300-1733939700@spdlc.org
SUMMARY:SPD Singers
DESCRIPTION:SPD Singers is open to students in Grades 6-12 who like to have fun singing with their friends. Rehearsals are on Wednesdays from 5:15-5:55 p.m. Confirmation students can sing & still eat pizza at 6:00 p.m. on Wednesdays!  \nDownload the schedule for 2024-2025 HERE! \nContact Sam Grace at sgrace@spdlc.org for more information.
URL:https://spdlc.org/event/spd-singers-2/2024-12-11/
CATEGORIES:High School,Middle School,Music
ATTACH;FMTTYPE=image/jpeg:https://spdlc.s3.amazonaws.com/wp-content/uploads/2024/07/IMG_1051-scaled.jpg
END:VEVENT
BEGIN:VEVENT
DTSTART;TZID=America/Chicago:20241204T183000
DTEND;TZID=America/Chicago:20241204T193000
DTSTAMP:20260424T111010
CREATED:20230912T192744Z
LAST-MODIFIED:20240918T200709Z
UID:10011400-1733337000-1733340600@spdlc.org
SUMMARY:Confirmation - Middle School
DESCRIPTION:Confirmation classes are for students in grades 6 – 8 and culminate with the Rite of Confirmation in January of the student’s 9th grade year. Pizza & Play will take place each Wednesday evening from 5:30 – 6:30 p.m. when Confirmation is meeting. Drop off your child or come in and have pizza $1/slice. Punch cards are available for purchase at $10 each: click to purchase. \nPlease look at the 2024-2025 Middle School Calendar. There are some nights when Confirmation will not meet or will have special programming such as a Service night. \nPlease register at spdlc.org/register
URL:https://spdlc.org/event/confirmation-2-2/2024-12-04/
CATEGORIES:Middle School
ATTACH;FMTTYPE=image/png:https://spdlc.org/wp-content/uploads/2023/09/WaterFlame_red_blue.fw_.png
END:VEVENT
BEGIN:VEVENT
DTSTART;TZID=America/Chicago:20241204T171500
DTEND;TZID=America/Chicago:20241204T175500
DTSTAMP:20260424T111010
CREATED:20240717T211644Z
LAST-MODIFIED:20241218T195553Z
UID:10010799-1733332500-1733334900@spdlc.org
SUMMARY:SPD Singers
DESCRIPTION:SPD Singers is open to students in Grades 6-12 who like to have fun singing with their friends. Rehearsals are on Wednesdays from 5:15-5:55 p.m. Confirmation students can sing & still eat pizza at 6:00 p.m. on Wednesdays!  \nDownload the schedule for 2024-2025 HERE! \nContact Sam Grace at sgrace@spdlc.org for more information.
URL:https://spdlc.org/event/spd-singers-2/2024-12-04/
CATEGORIES:High School,Middle School,Music
ATTACH;FMTTYPE=image/jpeg:https://spdlc.s3.amazonaws.com/wp-content/uploads/2024/07/IMG_1051-scaled.jpg
END:VEVENT
BEGIN:VEVENT
DTSTART;TZID=America/Chicago:20241120T183000
DTEND;TZID=America/Chicago:20241120T193000
DTSTAMP:20260424T111010
CREATED:20230912T192744Z
LAST-MODIFIED:20240918T200709Z
UID:10011398-1732127400-1732131000@spdlc.org
SUMMARY:Confirmation - Middle School
DESCRIPTION:Confirmation classes are for students in grades 6 – 8 and culminate with the Rite of Confirmation in January of the student’s 9th grade year. Pizza & Play will take place each Wednesday evening from 5:30 – 6:30 p.m. when Confirmation is meeting. Drop off your child or come in and have pizza $1/slice. Punch cards are available for purchase at $10 each: click to purchase. \nPlease look at the 2024-2025 Middle School Calendar. There are some nights when Confirmation will not meet or will have special programming such as a Service night. \nPlease register at spdlc.org/register
URL:https://spdlc.org/event/confirmation-2-2/2024-11-20/
CATEGORIES:Middle School
ATTACH;FMTTYPE=image/png:https://spdlc.org/wp-content/uploads/2023/09/WaterFlame_red_blue.fw_.png
END:VEVENT
BEGIN:VEVENT
DTSTART;TZID=America/Chicago:20241120T171500
DTEND;TZID=America/Chicago:20241120T175500
DTSTAMP:20260424T111010
CREATED:20240717T211644Z
LAST-MODIFIED:20241218T195553Z
UID:10010798-1732122900-1732125300@spdlc.org
SUMMARY:SPD Singers
DESCRIPTION:SPD Singers is open to students in Grades 6-12 who like to have fun singing with their friends. Rehearsals are on Wednesdays from 5:15-5:55 p.m. Confirmation students can sing & still eat pizza at 6:00 p.m. on Wednesdays!  \nDownload the schedule for 2024-2025 HERE! \nContact Sam Grace at sgrace@spdlc.org for more information.
URL:https://spdlc.org/event/spd-singers-2/2024-11-20/
CATEGORIES:High School,Middle School,Music
ATTACH;FMTTYPE=image/jpeg:https://spdlc.s3.amazonaws.com/wp-content/uploads/2024/07/IMG_1051-scaled.jpg
END:VEVENT
BEGIN:VEVENT
DTSTART;TZID=America/Chicago:20241113T183000
DTEND;TZID=America/Chicago:20241113T193000
DTSTAMP:20260424T111010
CREATED:20230912T192744Z
LAST-MODIFIED:20240918T200709Z
UID:10011397-1731522600-1731526200@spdlc.org
SUMMARY:Confirmation - Middle School
DESCRIPTION:Confirmation classes are for students in grades 6 – 8 and culminate with the Rite of Confirmation in January of the student’s 9th grade year. Pizza & Play will take place each Wednesday evening from 5:30 – 6:30 p.m. when Confirmation is meeting. Drop off your child or come in and have pizza $1/slice. Punch cards are available for purchase at $10 each: click to purchase. \nPlease look at the 2024-2025 Middle School Calendar. There are some nights when Confirmation will not meet or will have special programming such as a Service night. \nPlease register at spdlc.org/register
URL:https://spdlc.org/event/confirmation-2-2/2024-11-13/
CATEGORIES:Middle School
ATTACH;FMTTYPE=image/png:https://spdlc.org/wp-content/uploads/2023/09/WaterFlame_red_blue.fw_.png
END:VEVENT
BEGIN:VEVENT
DTSTART;TZID=America/Chicago:20241113T171500
DTEND;TZID=America/Chicago:20241113T175500
DTSTAMP:20260424T111010
CREATED:20240717T211644Z
LAST-MODIFIED:20241218T195553Z
UID:10010797-1731518100-1731520500@spdlc.org
SUMMARY:SPD Singers
DESCRIPTION:SPD Singers is open to students in Grades 6-12 who like to have fun singing with their friends. Rehearsals are on Wednesdays from 5:15-5:55 p.m. Confirmation students can sing & still eat pizza at 6:00 p.m. on Wednesdays!  \nDownload the schedule for 2024-2025 HERE! \nContact Sam Grace at sgrace@spdlc.org for more information.
URL:https://spdlc.org/event/spd-singers-2/2024-11-13/
CATEGORIES:High School,Middle School,Music
ATTACH;FMTTYPE=image/jpeg:https://spdlc.s3.amazonaws.com/wp-content/uploads/2024/07/IMG_1051-scaled.jpg
END:VEVENT
BEGIN:VEVENT
DTSTART;TZID=America/Chicago:20241109T170000
DTEND;TZID=America/Chicago:20241110T120000
DTSTAMP:20260424T111010
CREATED:20241016T220922Z
LAST-MODIFIED:20241016T221014Z
UID:10011447-1731171600-1731240000@spdlc.org
SUMMARY:Sleep Out for Interfaith Outreach
DESCRIPTION:Saturday\, Nov. 9 starting at 5 p.m. through Sunday\, Nov. 10 at 11 a.m. \nMiddle School and High School youth plan to join the Sleep Out 2024\, in support of the Interfaith Outreach Sleep Out campaign. You will hear more about housing instability\, its impact on individuals and families in our community and how Interfaith addresses their needs and how you can support this campaign. Adult volunteers are needed (must pass a background check if staying overnight). $20 per youth\, scholarships are available.
URL:https://spdlc.org/event/sleep-out-for-interfaith-outreach/
CATEGORIES:High School,Middle School
END:VEVENT
BEGIN:VEVENT
DTSTART;TZID=America/Chicago:20241109T080000
DTEND;TZID=America/Chicago:20241110T110000
DTSTAMP:20260424T111010
CREATED:20240918T195714Z
LAST-MODIFIED:20240918T195714Z
UID:10010948-1731139200-1731236400@spdlc.org
SUMMARY:IOCP Sleep Out
DESCRIPTION:Calling all 6th – 12th graders! Join us on November 9-10 for the IOCP Sleepout (Lock-in). Stay tuned for more details!
URL:https://spdlc.org/event/iocp-sleep-out/
CATEGORIES:High School,Middle School
END:VEVENT
BEGIN:VEVENT
DTSTART;TZID=America/Chicago:20241106T183000
DTEND;TZID=America/Chicago:20241106T193000
DTSTAMP:20260424T111010
CREATED:20230912T192744Z
LAST-MODIFIED:20240918T200709Z
UID:10011396-1730917800-1730921400@spdlc.org
SUMMARY:Confirmation - Middle School
DESCRIPTION:Confirmation classes are for students in grades 6 – 8 and culminate with the Rite of Confirmation in January of the student’s 9th grade year. Pizza & Play will take place each Wednesday evening from 5:30 – 6:30 p.m. when Confirmation is meeting. Drop off your child or come in and have pizza $1/slice. Punch cards are available for purchase at $10 each: click to purchase. \nPlease look at the 2024-2025 Middle School Calendar. There are some nights when Confirmation will not meet or will have special programming such as a Service night. \nPlease register at spdlc.org/register
URL:https://spdlc.org/event/confirmation-2-2/2024-11-06/
CATEGORIES:Middle School
ATTACH;FMTTYPE=image/png:https://spdlc.org/wp-content/uploads/2023/09/WaterFlame_red_blue.fw_.png
END:VEVENT
BEGIN:VEVENT
DTSTART;TZID=America/Chicago:20241106T171500
DTEND;TZID=America/Chicago:20241106T175500
DTSTAMP:20260424T111010
CREATED:20240717T211644Z
LAST-MODIFIED:20241218T195553Z
UID:10010796-1730913300-1730915700@spdlc.org
SUMMARY:SPD Singers
DESCRIPTION:SPD Singers is open to students in Grades 6-12 who like to have fun singing with their friends. Rehearsals are on Wednesdays from 5:15-5:55 p.m. Confirmation students can sing & still eat pizza at 6:00 p.m. on Wednesdays!  \nDownload the schedule for 2024-2025 HERE! \nContact Sam Grace at sgrace@spdlc.org for more information.
URL:https://spdlc.org/event/spd-singers-2/2024-11-06/
CATEGORIES:High School,Middle School,Music
ATTACH;FMTTYPE=image/jpeg:https://spdlc.s3.amazonaws.com/wp-content/uploads/2024/07/IMG_1051-scaled.jpg
END:VEVENT
BEGIN:VEVENT
DTSTART;TZID=America/Chicago:20241030T183000
DTEND;TZID=America/Chicago:20241030T193000
DTSTAMP:20260424T111010
CREATED:20230912T192744Z
LAST-MODIFIED:20240918T200709Z
UID:10011395-1730313000-1730316600@spdlc.org
SUMMARY:Confirmation - Middle School
DESCRIPTION:Confirmation classes are for students in grades 6 – 8 and culminate with the Rite of Confirmation in January of the student’s 9th grade year. Pizza & Play will take place each Wednesday evening from 5:30 – 6:30 p.m. when Confirmation is meeting. Drop off your child or come in and have pizza $1/slice. Punch cards are available for purchase at $10 each: click to purchase. \nPlease look at the 2024-2025 Middle School Calendar. There are some nights when Confirmation will not meet or will have special programming such as a Service night. \nPlease register at spdlc.org/register
URL:https://spdlc.org/event/confirmation-2-2/2024-10-30/
CATEGORIES:Middle School
ATTACH;FMTTYPE=image/png:https://spdlc.org/wp-content/uploads/2023/09/WaterFlame_red_blue.fw_.png
END:VEVENT
BEGIN:VEVENT
DTSTART;TZID=America/Chicago:20241030T171500
DTEND;TZID=America/Chicago:20241030T175500
DTSTAMP:20260424T111010
CREATED:20240717T211644Z
LAST-MODIFIED:20241218T195553Z
UID:10010795-1730308500-1730310900@spdlc.org
SUMMARY:SPD Singers
DESCRIPTION:SPD Singers is open to students in Grades 6-12 who like to have fun singing with their friends. Rehearsals are on Wednesdays from 5:15-5:55 p.m. Confirmation students can sing & still eat pizza at 6:00 p.m. on Wednesdays!  \nDownload the schedule for 2024-2025 HERE! \nContact Sam Grace at sgrace@spdlc.org for more information.
URL:https://spdlc.org/event/spd-singers-2/2024-10-30/
CATEGORIES:High School,Middle School,Music
ATTACH;FMTTYPE=image/jpeg:https://spdlc.s3.amazonaws.com/wp-content/uploads/2024/07/IMG_1051-scaled.jpg
END:VEVENT
BEGIN:VEVENT
DTSTART;TZID=America/Chicago:20241023T183000
DTEND;TZID=America/Chicago:20241023T193000
DTSTAMP:20260424T111010
CREATED:20230912T192744Z
LAST-MODIFIED:20240918T200709Z
UID:10011394-1729708200-1729711800@spdlc.org
SUMMARY:Confirmation - Middle School
DESCRIPTION:Confirmation classes are for students in grades 6 – 8 and culminate with the Rite of Confirmation in January of the student’s 9th grade year. Pizza & Play will take place each Wednesday evening from 5:30 – 6:30 p.m. when Confirmation is meeting. Drop off your child or come in and have pizza $1/slice. Punch cards are available for purchase at $10 each: click to purchase. \nPlease look at the 2024-2025 Middle School Calendar. There are some nights when Confirmation will not meet or will have special programming such as a Service night. \nPlease register at spdlc.org/register
URL:https://spdlc.org/event/confirmation-2-2/2024-10-23/
CATEGORIES:Middle School
ATTACH;FMTTYPE=image/png:https://spdlc.org/wp-content/uploads/2023/09/WaterFlame_red_blue.fw_.png
END:VEVENT
BEGIN:VEVENT
DTSTART;TZID=America/Chicago:20241023T171500
DTEND;TZID=America/Chicago:20241023T175500
DTSTAMP:20260424T111010
CREATED:20240717T211644Z
LAST-MODIFIED:20241218T195553Z
UID:10010794-1729703700-1729706100@spdlc.org
SUMMARY:SPD Singers
DESCRIPTION:SPD Singers is open to students in Grades 6-12 who like to have fun singing with their friends. Rehearsals are on Wednesdays from 5:15-5:55 p.m. Confirmation students can sing & still eat pizza at 6:00 p.m. on Wednesdays!  \nDownload the schedule for 2024-2025 HERE! \nContact Sam Grace at sgrace@spdlc.org for more information.
URL:https://spdlc.org/event/spd-singers-2/2024-10-23/
CATEGORIES:High School,Middle School,Music
ATTACH;FMTTYPE=image/jpeg:https://spdlc.s3.amazonaws.com/wp-content/uploads/2024/07/IMG_1051-scaled.jpg
END:VEVENT
BEGIN:VEVENT
DTSTART;TZID=America/Chicago:20241009T183000
DTEND;TZID=America/Chicago:20241009T193000
DTSTAMP:20260424T111010
CREATED:20230912T192744Z
LAST-MODIFIED:20240918T200709Z
UID:10011392-1728498600-1728502200@spdlc.org
SUMMARY:Confirmation - Middle School
DESCRIPTION:Confirmation classes are for students in grades 6 – 8 and culminate with the Rite of Confirmation in January of the student’s 9th grade year. Pizza & Play will take place each Wednesday evening from 5:30 – 6:30 p.m. when Confirmation is meeting. Drop off your child or come in and have pizza $1/slice. Punch cards are available for purchase at $10 each: click to purchase. \nPlease look at the 2024-2025 Middle School Calendar. There are some nights when Confirmation will not meet or will have special programming such as a Service night. \nPlease register at spdlc.org/register
URL:https://spdlc.org/event/confirmation-2-2/2024-10-09/
CATEGORIES:Middle School
ATTACH;FMTTYPE=image/png:https://spdlc.org/wp-content/uploads/2023/09/WaterFlame_red_blue.fw_.png
END:VEVENT
BEGIN:VEVENT
DTSTART;TZID=America/Chicago:20241009T171500
DTEND;TZID=America/Chicago:20241009T175500
DTSTAMP:20260424T111010
CREATED:20240717T211644Z
LAST-MODIFIED:20241218T195553Z
UID:10010793-1728494100-1728496500@spdlc.org
SUMMARY:SPD Singers
DESCRIPTION:SPD Singers is open to students in Grades 6-12 who like to have fun singing with their friends. Rehearsals are on Wednesdays from 5:15-5:55 p.m. Confirmation students can sing & still eat pizza at 6:00 p.m. on Wednesdays!  \nDownload the schedule for 2024-2025 HERE! \nContact Sam Grace at sgrace@spdlc.org for more information.
URL:https://spdlc.org/event/spd-singers-2/2024-10-09/
CATEGORIES:High School,Middle School,Music
ATTACH;FMTTYPE=image/jpeg:https://spdlc.s3.amazonaws.com/wp-content/uploads/2024/07/IMG_1051-scaled.jpg
END:VEVENT
BEGIN:VEVENT
DTSTART;TZID=America/Chicago:20241002T183000
DTEND;TZID=America/Chicago:20241002T193000
DTSTAMP:20260424T111010
CREATED:20230912T192744Z
LAST-MODIFIED:20240918T200709Z
UID:10011391-1727893800-1727897400@spdlc.org
SUMMARY:Confirmation - Middle School
DESCRIPTION:Confirmation classes are for students in grades 6 – 8 and culminate with the Rite of Confirmation in January of the student’s 9th grade year. Pizza & Play will take place each Wednesday evening from 5:30 – 6:30 p.m. when Confirmation is meeting. Drop off your child or come in and have pizza $1/slice. Punch cards are available for purchase at $10 each: click to purchase. \nPlease look at the 2024-2025 Middle School Calendar. There are some nights when Confirmation will not meet or will have special programming such as a Service night. \nPlease register at spdlc.org/register
URL:https://spdlc.org/event/confirmation-2-2/2024-10-02/
CATEGORIES:Middle School
ATTACH;FMTTYPE=image/png:https://spdlc.org/wp-content/uploads/2023/09/WaterFlame_red_blue.fw_.png
END:VEVENT
BEGIN:VEVENT
DTSTART;TZID=America/Chicago:20241002T171500
DTEND;TZID=America/Chicago:20241002T175500
DTSTAMP:20260424T111010
CREATED:20240717T211644Z
LAST-MODIFIED:20241218T195553Z
UID:10010792-1727889300-1727891700@spdlc.org
SUMMARY:SPD Singers
DESCRIPTION:SPD Singers is open to students in Grades 6-12 who like to have fun singing with their friends. Rehearsals are on Wednesdays from 5:15-5:55 p.m. Confirmation students can sing & still eat pizza at 6:00 p.m. on Wednesdays!  \nDownload the schedule for 2024-2025 HERE! \nContact Sam Grace at sgrace@spdlc.org for more information.
URL:https://spdlc.org/event/spd-singers-2/2024-10-02/
CATEGORIES:High School,Middle School,Music
ATTACH;FMTTYPE=image/jpeg:https://spdlc.s3.amazonaws.com/wp-content/uploads/2024/07/IMG_1051-scaled.jpg
END:VEVENT
BEGIN:VEVENT
DTSTART;TZID=America/Chicago:20240929T153000
DTEND;TZID=America/Chicago:20240929T173000
DTSTAMP:20260424T111010
CREATED:20230816T192808Z
LAST-MODIFIED:20240911T182240Z
UID:10008063-1727623800-1727631000@spdlc.org
SUMMARY:SPD Jamboree
DESCRIPTION:The definition of a jamboree is a “large festive gathering\,” and that is what we are planning! The event on the last Sunday of September is for ALL ages- young and old alike. The afternoon will include a kids’ program featuring The Jolly Pops\, Bingo\, carnival games\, and food. No need to register!
URL:https://spdlc.org/event/spd-jamboree-3/
CATEGORIES:Adults,Children,High School,Middle School,Music
ATTACH;FMTTYPE=image/png:https://spdlc.org/wp-content/uploads/2022/09/SPD-Jamboree-2022-Flyer-1_Page_1.jpg.png
END:VEVENT
BEGIN:VEVENT
DTSTART;TZID=America/Chicago:20240925T183000
DTEND;TZID=America/Chicago:20240925T193000
DTSTAMP:20260424T111010
CREATED:20230912T192744Z
LAST-MODIFIED:20240918T200709Z
UID:10011390-1727289000-1727292600@spdlc.org
SUMMARY:Confirmation - Middle School
DESCRIPTION:Confirmation classes are for students in grades 6 – 8 and culminate with the Rite of Confirmation in January of the student’s 9th grade year. Pizza & Play will take place each Wednesday evening from 5:30 – 6:30 p.m. when Confirmation is meeting. Drop off your child or come in and have pizza $1/slice. Punch cards are available for purchase at $10 each: click to purchase. \nPlease look at the 2024-2025 Middle School Calendar. There are some nights when Confirmation will not meet or will have special programming such as a Service night. \nPlease register at spdlc.org/register
URL:https://spdlc.org/event/confirmation-2-2/2024-09-25/
CATEGORIES:Middle School
ATTACH;FMTTYPE=image/png:https://spdlc.org/wp-content/uploads/2023/09/WaterFlame_red_blue.fw_.png
END:VEVENT
BEGIN:VEVENT
DTSTART;TZID=America/Chicago:20240925T171500
DTEND;TZID=America/Chicago:20240925T175500
DTSTAMP:20260424T111010
CREATED:20240717T211644Z
LAST-MODIFIED:20241218T195553Z
UID:10010791-1727284500-1727286900@spdlc.org
SUMMARY:SPD Singers
DESCRIPTION:SPD Singers is open to students in Grades 6-12 who like to have fun singing with their friends. Rehearsals are on Wednesdays from 5:15-5:55 p.m. Confirmation students can sing & still eat pizza at 6:00 p.m. on Wednesdays!  \nDownload the schedule for 2024-2025 HERE! \nContact Sam Grace at sgrace@spdlc.org for more information.
URL:https://spdlc.org/event/spd-singers-2/2024-09-25/
CATEGORIES:High School,Middle School,Music
ATTACH;FMTTYPE=image/jpeg:https://spdlc.s3.amazonaws.com/wp-content/uploads/2024/07/IMG_1051-scaled.jpg
END:VEVENT
BEGIN:VEVENT
DTSTART;TZID=America/Chicago:20240918T183000
DTEND;TZID=America/Chicago:20240918T193000
DTSTAMP:20260424T111010
CREATED:20230912T192744Z
LAST-MODIFIED:20240918T200709Z
UID:10011389-1726684200-1726687800@spdlc.org
SUMMARY:Confirmation - Middle School
DESCRIPTION:Confirmation classes are for students in grades 6 – 8 and culminate with the Rite of Confirmation in January of the student’s 9th grade year. Pizza & Play will take place each Wednesday evening from 5:30 – 6:30 p.m. when Confirmation is meeting. Drop off your child or come in and have pizza $1/slice. Punch cards are available for purchase at $10 each: click to purchase. \nPlease look at the 2024-2025 Middle School Calendar. There are some nights when Confirmation will not meet or will have special programming such as a Service night. \nPlease register at spdlc.org/register
URL:https://spdlc.org/event/confirmation-2-2/2024-09-18/
CATEGORIES:Middle School
ATTACH;FMTTYPE=image/png:https://spdlc.org/wp-content/uploads/2023/09/WaterFlame_red_blue.fw_.png
END:VEVENT
BEGIN:VEVENT
DTSTART;TZID=America/Chicago:20240918T171500
DTEND;TZID=America/Chicago:20240918T175500
DTSTAMP:20260424T111010
CREATED:20240717T211644Z
LAST-MODIFIED:20241218T195553Z
UID:10010790-1726679700-1726682100@spdlc.org
SUMMARY:SPD Singers
DESCRIPTION:SPD Singers is open to students in Grades 6-12 who like to have fun singing with their friends. Rehearsals are on Wednesdays from 5:15-5:55 p.m. Confirmation students can sing & still eat pizza at 6:00 p.m. on Wednesdays!  \nDownload the schedule for 2024-2025 HERE! \nContact Sam Grace at sgrace@spdlc.org for more information.
URL:https://spdlc.org/event/spd-singers-2/2024-09-18/
CATEGORIES:High School,Middle School,Music
ATTACH;FMTTYPE=image/jpeg:https://spdlc.s3.amazonaws.com/wp-content/uploads/2024/07/IMG_1051-scaled.jpg
END:VEVENT
BEGIN:VEVENT
DTSTART;TZID=America/Chicago:20240911T183000
DTEND;TZID=America/Chicago:20240911T193000
DTSTAMP:20260424T111010
CREATED:20230912T192744Z
LAST-MODIFIED:20240918T200709Z
UID:10011388-1726079400-1726083000@spdlc.org
SUMMARY:Confirmation - Middle School
DESCRIPTION:Confirmation classes are for students in grades 6 – 8 and culminate with the Rite of Confirmation in January of the student’s 9th grade year. Pizza & Play will take place each Wednesday evening from 5:30 – 6:30 p.m. when Confirmation is meeting. Drop off your child or come in and have pizza $1/slice. Punch cards are available for purchase at $10 each: click to purchase. \nPlease look at the 2024-2025 Middle School Calendar. There are some nights when Confirmation will not meet or will have special programming such as a Service night. \nPlease register at spdlc.org/register
URL:https://spdlc.org/event/confirmation-2-2/2024-09-11/
CATEGORIES:Middle School
ATTACH;FMTTYPE=image/png:https://spdlc.org/wp-content/uploads/2023/09/WaterFlame_red_blue.fw_.png
END:VEVENT
BEGIN:VEVENT
DTSTART;TZID=America/Chicago:20240911T171500
DTEND;TZID=America/Chicago:20240911T175500
DTSTAMP:20260424T111010
CREATED:20240717T211644Z
LAST-MODIFIED:20241218T195553Z
UID:10005656-1726074900-1726077300@spdlc.org
SUMMARY:SPD Singers
DESCRIPTION:SPD Singers is open to students in Grades 6-12 who like to have fun singing with their friends. Rehearsals are on Wednesdays from 5:15-5:55 p.m. Confirmation students can sing & still eat pizza at 6:00 p.m. on Wednesdays!  \nDownload the schedule for 2024-2025 HERE! \nContact Sam Grace at sgrace@spdlc.org for more information.
URL:https://spdlc.org/event/spd-singers-2/2024-09-11/
CATEGORIES:High School,Middle School,Music
ATTACH;FMTTYPE=image/jpeg:https://spdlc.s3.amazonaws.com/wp-content/uploads/2024/07/IMG_1051-scaled.jpg
END:VEVENT
BEGIN:VEVENT
DTSTART;TZID=America/Chicago:20240904T183000
DTEND;TZID=America/Chicago:20240904T193000
DTSTAMP:20260424T111010
CREATED:20230912T192744Z
LAST-MODIFIED:20240918T200709Z
UID:10011387-1725474600-1725478200@spdlc.org
SUMMARY:Confirmation - Middle School
DESCRIPTION:Confirmation classes are for students in grades 6 – 8 and culminate with the Rite of Confirmation in January of the student’s 9th grade year. Pizza & Play will take place each Wednesday evening from 5:30 – 6:30 p.m. when Confirmation is meeting. Drop off your child or come in and have pizza $1/slice. Punch cards are available for purchase at $10 each: click to purchase. \nPlease look at the 2024-2025 Middle School Calendar. There are some nights when Confirmation will not meet or will have special programming such as a Service night. \nPlease register at spdlc.org/register
URL:https://spdlc.org/event/confirmation-2-2/2024-09-04/
CATEGORIES:Middle School
ATTACH;FMTTYPE=image/png:https://spdlc.org/wp-content/uploads/2023/09/WaterFlame_red_blue.fw_.png
END:VEVENT
BEGIN:VEVENT
DTSTART;TZID=America/Chicago:20240828T183000
DTEND;TZID=America/Chicago:20240828T193000
DTSTAMP:20260424T111010
CREATED:20230912T192744Z
LAST-MODIFIED:20240918T200709Z
UID:10011386-1724869800-1724873400@spdlc.org
SUMMARY:Confirmation - Middle School
DESCRIPTION:Confirmation classes are for students in grades 6 – 8 and culminate with the Rite of Confirmation in January of the student’s 9th grade year. Pizza & Play will take place each Wednesday evening from 5:30 – 6:30 p.m. when Confirmation is meeting. Drop off your child or come in and have pizza $1/slice. Punch cards are available for purchase at $10 each: click to purchase. \nPlease look at the 2024-2025 Middle School Calendar. There are some nights when Confirmation will not meet or will have special programming such as a Service night. \nPlease register at spdlc.org/register
URL:https://spdlc.org/event/confirmation-2-2/2024-08-28/
CATEGORIES:Middle School
ATTACH;FMTTYPE=image/png:https://spdlc.org/wp-content/uploads/2023/09/WaterFlame_red_blue.fw_.png
END:VEVENT
END:VCALENDAR