BEGIN:VCALENDAR
VERSION:2.0
PRODID:-//St. Philip The Deacon - ECPv6.15.18//NONSGML v1.0//EN
CALSCALE:GREGORIAN
METHOD:PUBLISH
X-WR-CALNAME:St. Philip The Deacon
X-ORIGINAL-URL:https://spdlc.org
X-WR-CALDESC:Events for St. Philip The Deacon
REFRESH-INTERVAL;VALUE=DURATION:PT1H
X-Robots-Tag:noindex
X-PUBLISHED-TTL:PT1H
BEGIN:VTIMEZONE
TZID:America/Chicago
BEGIN:DAYLIGHT
TZOFFSETFROM:-0600
TZOFFSETTO:-0500
TZNAME:CDT
DTSTART:20240310T080000
END:DAYLIGHT
BEGIN:STANDARD
TZOFFSETFROM:-0500
TZOFFSETTO:-0600
TZNAME:CST
DTSTART:20241103T070000
END:STANDARD
BEGIN:DAYLIGHT
TZOFFSETFROM:-0600
TZOFFSETTO:-0500
TZNAME:CDT
DTSTART:20250309T080000
END:DAYLIGHT
BEGIN:STANDARD
TZOFFSETFROM:-0500
TZOFFSETTO:-0600
TZNAME:CST
DTSTART:20251102T070000
END:STANDARD
BEGIN:DAYLIGHT
TZOFFSETFROM:-0600
TZOFFSETTO:-0500
TZNAME:CDT
DTSTART:20260308T080000
END:DAYLIGHT
BEGIN:STANDARD
TZOFFSETFROM:-0500
TZOFFSETTO:-0600
TZNAME:CST
DTSTART:20261101T070000
END:STANDARD
END:VTIMEZONE
BEGIN:VEVENT
DTSTART;TZID=America/Chicago:20250820T173000
DTEND;TZID=America/Chicago:20250820T190000
DTSTAMP:20260420T062236
CREATED:20250221T170639Z
LAST-MODIFIED:20250303T190956Z
UID:10013109-1755711000-1755716400@spdlc.org
SUMMARY:Wednesday Night Light
DESCRIPTION:June 11\, 25\, July 9\, 23\, and Aug 20 | 5:30–7 pm \nGather around the campfire for food\, fellowship\, and fun in the church backyard. There will be games and activities for the whole family. ending with a vespers service at 6:30pm. Youth are invited to stick around after 7 p.m. with Charlie and Olsen for more activities. For more info\, contact Pastor Makayla Dahleen\, mdahleen@spdlc.org \nNo registration necessary!
URL:https://spdlc.org/event/family-wednesday-night-light/2025-08-20/
CATEGORIES:Adults,Children,High School,Middle School
ATTACH;FMTTYPE=image/jpeg:https://spdlc.org/wp-content/uploads/2025/02/a-campfire-every-night.jpg
END:VEVENT
BEGIN:VEVENT
DTSTART;TZID=America/Chicago:20250723T173000
DTEND;TZID=America/Chicago:20250723T190000
DTSTAMP:20260420T062236
CREATED:20250221T170639Z
LAST-MODIFIED:20250303T190956Z
UID:10013108-1753291800-1753297200@spdlc.org
SUMMARY:Wednesday Night Light
DESCRIPTION:June 11\, 25\, July 9\, 23\, and Aug 20 | 5:30–7 pm \nGather around the campfire for food\, fellowship\, and fun in the church backyard. There will be games and activities for the whole family. ending with a vespers service at 6:30pm. Youth are invited to stick around after 7 p.m. with Charlie and Olsen for more activities. For more info\, contact Pastor Makayla Dahleen\, mdahleen@spdlc.org \nNo registration necessary!
URL:https://spdlc.org/event/family-wednesday-night-light/2025-07-23/
CATEGORIES:Adults,Children,High School,Middle School
ATTACH;FMTTYPE=image/jpeg:https://spdlc.org/wp-content/uploads/2025/02/a-campfire-every-night.jpg
END:VEVENT
BEGIN:VEVENT
DTSTART;TZID=America/Chicago:20250717T090000
DTEND;TZID=America/Chicago:20250717T150000
DTSTAMP:20260420T062236
CREATED:20250326T183025Z
LAST-MODIFIED:20250326T183244Z
UID:10013206-1752742800-1752764400@spdlc.org
SUMMARY:Sacred Sites Tour – Healing MN Stories
DESCRIPTION:Thursday\, July 17\, 9 AM-3 PM | Sacred Sites Tour- Healing MN Stories | Facilitators: Jen Galley & Amanda Berger | Cost: $65 \nHealing MN Stories : Healing Minnesota Stories is an effort to create understanding and healing between Native American and non-Native people\, particularly those in faith communities. Native people have suffered deep trauma over many years\, losing their land\, language\, and culture. While many people and institutions contributed to that trauma\, it happened with the full participation of Christian churches. We all still need healing. Healing is possible\, and churches have a role to play. \nSacred Sites Tour: The Sacred Sites Tour offers an opportunity to learn about Minnesota history from a Native perspective through story-telling and experiencing the sites in silence / meditation / reflection. \nWe will visit sites located around confluence of the Mississippi and Minnesota rivers\, what the Dakota refer to as Bdote\, or “meeting place of rivers\,” including: \n· Fort Snelling State Park \n· Dakota Internment Camp following The Dakota-U.S. War \n· Pilot Knob Hill\, a traditional burial ground \nContact Jen at jgalley@spdlc.org or Amanda at aberger@spdlc.org for questions! \nMore details can be found here: Sacred Sites Tour – Healing MN Stories
URL:https://spdlc.org/event/sacred-sites-tour-healing-mn-stories/
CATEGORIES:Adults,High School
ATTACH;FMTTYPE=image/png:https://spdlc.org/wp-content/uploads/2025/03/174283331558722_healing-mn-stories.png
END:VEVENT
BEGIN:VEVENT
DTSTART;TZID=America/Chicago:20250709T173000
DTEND;TZID=America/Chicago:20250709T190000
DTSTAMP:20260420T062236
CREATED:20250221T170639Z
LAST-MODIFIED:20250303T190956Z
UID:10013107-1752082200-1752087600@spdlc.org
SUMMARY:Wednesday Night Light
DESCRIPTION:June 11\, 25\, July 9\, 23\, and Aug 20 | 5:30–7 pm \nGather around the campfire for food\, fellowship\, and fun in the church backyard. There will be games and activities for the whole family. ending with a vespers service at 6:30pm. Youth are invited to stick around after 7 p.m. with Charlie and Olsen for more activities. For more info\, contact Pastor Makayla Dahleen\, mdahleen@spdlc.org \nNo registration necessary!
URL:https://spdlc.org/event/family-wednesday-night-light/2025-07-09/
CATEGORIES:Adults,Children,High School,Middle School
ATTACH;FMTTYPE=image/jpeg:https://spdlc.org/wp-content/uploads/2025/02/a-campfire-every-night.jpg
END:VEVENT
BEGIN:VEVENT
DTSTART;TZID=America/Chicago:20250625T173000
DTEND;TZID=America/Chicago:20250625T190000
DTSTAMP:20260420T062236
CREATED:20250221T170639Z
LAST-MODIFIED:20250303T190956Z
UID:10013106-1750872600-1750878000@spdlc.org
SUMMARY:Wednesday Night Light
DESCRIPTION:June 11\, 25\, July 9\, 23\, and Aug 20 | 5:30–7 pm \nGather around the campfire for food\, fellowship\, and fun in the church backyard. There will be games and activities for the whole family. ending with a vespers service at 6:30pm. Youth are invited to stick around after 7 p.m. with Charlie and Olsen for more activities. For more info\, contact Pastor Makayla Dahleen\, mdahleen@spdlc.org \nNo registration necessary!
URL:https://spdlc.org/event/family-wednesday-night-light/2025-06-25/
CATEGORIES:Adults,Children,High School,Middle School
ATTACH;FMTTYPE=image/jpeg:https://spdlc.org/wp-content/uploads/2025/02/a-campfire-every-night.jpg
END:VEVENT
BEGIN:VEVENT
DTSTART;TZID=America/Chicago:20250611T173000
DTEND;TZID=America/Chicago:20250611T190000
DTSTAMP:20260420T062236
CREATED:20250221T170639Z
LAST-MODIFIED:20250303T190956Z
UID:10013105-1749663000-1749668400@spdlc.org
SUMMARY:Wednesday Night Light
DESCRIPTION:June 11\, 25\, July 9\, 23\, and Aug 20 | 5:30–7 pm \nGather around the campfire for food\, fellowship\, and fun in the church backyard. There will be games and activities for the whole family. ending with a vespers service at 6:30pm. Youth are invited to stick around after 7 p.m. with Charlie and Olsen for more activities. For more info\, contact Pastor Makayla Dahleen\, mdahleen@spdlc.org \nNo registration necessary!
URL:https://spdlc.org/event/family-wednesday-night-light/2025-06-11/
CATEGORIES:Adults,Children,High School,Middle School
ATTACH;FMTTYPE=image/jpeg:https://spdlc.org/wp-content/uploads/2025/02/a-campfire-every-night.jpg
END:VEVENT
BEGIN:VEVENT
DTSTART;TZID=America/Chicago:20250531T100000
DTEND;TZID=America/Chicago:20250531T113000
DTSTAMP:20260420T062236
CREATED:20250211T210046Z
LAST-MODIFIED:20250211T210208Z
UID:10012719-1748685600-1748691000@spdlc.org
SUMMARY:All-Congregation Band Rehearsal
DESCRIPTION:Do you play an instrument? Perhaps it has been some time since you’ve played? Well\, dust off that old saxophone—we’re seeking musicians of all ages to help lead worship in our first All-Congregation Band on Sunday\, June 1. There is no age limit\, although a basic proficiency and ability to read music is expected. All musicians should supply their own instrument. All band and orchestra instruments are welcome. To make the experience accessible for all\, there are only two required rehearsals: \nRehearsals: Wednesday\, May 28 (7:00-8:30 p.m.)\, Saturday\, May 31 (10:00-11:30 a.m.) \nPlay for Worship: Sunday\, June 1 (Worship at 9:30 – Call time at 9:00)
URL:https://spdlc.org/event/all-congregation-band-rehearsal/2025-05-31/
CATEGORIES:Adults,High School,Middle School,Music
ATTACH;FMTTYPE=image/png:https://spdlc.org/wp-content/uploads/2025/02/instruments.png
END:VEVENT
BEGIN:VEVENT
DTSTART;TZID=America/Chicago:20250528T190000
DTEND;TZID=America/Chicago:20250528T203000
DTSTAMP:20260420T062236
CREATED:20250211T210046Z
LAST-MODIFIED:20250211T210208Z
UID:10012718-1748458800-1748464200@spdlc.org
SUMMARY:All-Congregation Band Rehearsal
DESCRIPTION:Do you play an instrument? Perhaps it has been some time since you’ve played? Well\, dust off that old saxophone—we’re seeking musicians of all ages to help lead worship in our first All-Congregation Band on Sunday\, June 1. There is no age limit\, although a basic proficiency and ability to read music is expected. All musicians should supply their own instrument. All band and orchestra instruments are welcome. To make the experience accessible for all\, there are only two required rehearsals: \nRehearsals: Wednesday\, May 28 (7:00-8:30 p.m.)\, Saturday\, May 31 (10:00-11:30 a.m.) \nPlay for Worship: Sunday\, June 1 (Worship at 9:30 – Call time at 9:00)
URL:https://spdlc.org/event/all-congregation-band-rehearsal/2025-05-28/
CATEGORIES:Adults,High School,Middle School,Music
ATTACH;FMTTYPE=image/png:https://spdlc.org/wp-content/uploads/2025/02/instruments.png
END:VEVENT
BEGIN:VEVENT
DTSTART;TZID=America/Chicago:20250521T171500
DTEND;TZID=America/Chicago:20250521T175500
DTSTAMP:20260420T062236
CREATED:20241218T200139Z
LAST-MODIFIED:20241218T201718Z
UID:10010819-1747847700-1747850100@spdlc.org
SUMMARY:SPD Singers
DESCRIPTION:SPD Singers is open to students in Grades 6-12 who like to have fun singing with their friends. Rehearsals are on Wednesdays from 5:15-5:55 p.m. Confirmation students can sing & still eat pizza at 6:00 p.m. on Wednesdays!  \nDownload the schedule for 2024-2025 HERE! \nContact Sam Grace at sgrace@spdlc.org for more information.
URL:https://spdlc.org/event/spd-singers-2-2/2025-05-21/
CATEGORIES:High School,Middle School,Music
ATTACH;FMTTYPE=image/jpeg:https://spdlc.s3.amazonaws.com/wp-content/uploads/2024/07/IMG_1051-scaled.jpg
END:VEVENT
BEGIN:VEVENT
DTSTART;TZID=America/Chicago:20250507T193000
DTEND;TZID=America/Chicago:20250507T203000
DTSTAMP:20260420T062236
CREATED:20240718T162506Z
LAST-MODIFIED:20240718T193315Z
UID:10010887-1746646200-1746649800@spdlc.org
SUMMARY:Koin: Ministry for High Schoolers
DESCRIPTION:Koin comes from the Greek word “Koinonia” which means Christian fellowship. During these Wednesday evenings from 7:30 – 8:30 p.m. our high school youth will spend time sharing stories\, playing games\, serving our community\, Bible reflections & more. Students in 9th grade are welcome to join after their confirmation class on Wednesday evenings. Please contact Olsen Pancoast at 0pancoast@spdlc.org.  \nKoin will kick off on September 18! \nDownload the 2024-2025 KOIN schedule here!
URL:https://spdlc.org/event/koin-ministry-for-high-schoolers-2-2/2025-05-07/
CATEGORIES:High School
ATTACH;FMTTYPE=image/png:https://spdlc.org/wp-content/uploads/2021/03/SPDLC-HS-Logo.png
END:VEVENT
BEGIN:VEVENT
DTSTART;TZID=America/Chicago:20250430T193000
DTEND;TZID=America/Chicago:20250430T203000
DTSTAMP:20260420T062236
CREATED:20240718T162506Z
LAST-MODIFIED:20240718T193315Z
UID:10010886-1746041400-1746045000@spdlc.org
SUMMARY:Koin: Ministry for High Schoolers
DESCRIPTION:Koin comes from the Greek word “Koinonia” which means Christian fellowship. During these Wednesday evenings from 7:30 – 8:30 p.m. our high school youth will spend time sharing stories\, playing games\, serving our community\, Bible reflections & more. Students in 9th grade are welcome to join after their confirmation class on Wednesday evenings. Please contact Olsen Pancoast at 0pancoast@spdlc.org.  \nKoin will kick off on September 18! \nDownload the 2024-2025 KOIN schedule here!
URL:https://spdlc.org/event/koin-ministry-for-high-schoolers-2-2/2025-04-30/
CATEGORIES:High School
ATTACH;FMTTYPE=image/png:https://spdlc.org/wp-content/uploads/2021/03/SPDLC-HS-Logo.png
END:VEVENT
BEGIN:VEVENT
DTSTART;TZID=America/Chicago:20250430T171500
DTEND;TZID=America/Chicago:20250430T175500
DTSTAMP:20260420T062236
CREATED:20241218T200139Z
LAST-MODIFIED:20241218T201718Z
UID:10010818-1746033300-1746035700@spdlc.org
SUMMARY:SPD Singers
DESCRIPTION:SPD Singers is open to students in Grades 6-12 who like to have fun singing with their friends. Rehearsals are on Wednesdays from 5:15-5:55 p.m. Confirmation students can sing & still eat pizza at 6:00 p.m. on Wednesdays!  \nDownload the schedule for 2024-2025 HERE! \nContact Sam Grace at sgrace@spdlc.org for more information.
URL:https://spdlc.org/event/spd-singers-2-2/2025-04-30/
CATEGORIES:High School,Middle School,Music
ATTACH;FMTTYPE=image/jpeg:https://spdlc.s3.amazonaws.com/wp-content/uploads/2024/07/IMG_1051-scaled.jpg
END:VEVENT
BEGIN:VEVENT
DTSTART;TZID=America/Chicago:20250423T193000
DTEND;TZID=America/Chicago:20250423T203000
DTSTAMP:20260420T062236
CREATED:20240718T162506Z
LAST-MODIFIED:20240718T193315Z
UID:10010885-1745436600-1745440200@spdlc.org
SUMMARY:Koin: Ministry for High Schoolers
DESCRIPTION:Koin comes from the Greek word “Koinonia” which means Christian fellowship. During these Wednesday evenings from 7:30 – 8:30 p.m. our high school youth will spend time sharing stories\, playing games\, serving our community\, Bible reflections & more. Students in 9th grade are welcome to join after their confirmation class on Wednesday evenings. Please contact Olsen Pancoast at 0pancoast@spdlc.org.  \nKoin will kick off on September 18! \nDownload the 2024-2025 KOIN schedule here!
URL:https://spdlc.org/event/koin-ministry-for-high-schoolers-2-2/2025-04-23/
CATEGORIES:High School
ATTACH;FMTTYPE=image/png:https://spdlc.org/wp-content/uploads/2021/03/SPDLC-HS-Logo.png
END:VEVENT
BEGIN:VEVENT
DTSTART;TZID=America/Chicago:20250423T171500
DTEND;TZID=America/Chicago:20250423T175500
DTSTAMP:20260420T062236
CREATED:20241218T200139Z
LAST-MODIFIED:20241218T201718Z
UID:10010817-1745428500-1745430900@spdlc.org
SUMMARY:SPD Singers
DESCRIPTION:SPD Singers is open to students in Grades 6-12 who like to have fun singing with their friends. Rehearsals are on Wednesdays from 5:15-5:55 p.m. Confirmation students can sing & still eat pizza at 6:00 p.m. on Wednesdays!  \nDownload the schedule for 2024-2025 HERE! \nContact Sam Grace at sgrace@spdlc.org for more information.
URL:https://spdlc.org/event/spd-singers-2-2/2025-04-23/
CATEGORIES:High School,Middle School,Music
ATTACH;FMTTYPE=image/jpeg:https://spdlc.s3.amazonaws.com/wp-content/uploads/2024/07/IMG_1051-scaled.jpg
END:VEVENT
BEGIN:VEVENT
DTSTART;TZID=America/Chicago:20250416T171500
DTEND;TZID=America/Chicago:20250416T175500
DTSTAMP:20260420T062236
CREATED:20241218T200139Z
LAST-MODIFIED:20241218T201718Z
UID:10010816-1744823700-1744826100@spdlc.org
SUMMARY:SPD Singers
DESCRIPTION:SPD Singers is open to students in Grades 6-12 who like to have fun singing with their friends. Rehearsals are on Wednesdays from 5:15-5:55 p.m. Confirmation students can sing & still eat pizza at 6:00 p.m. on Wednesdays!  \nDownload the schedule for 2024-2025 HERE! \nContact Sam Grace at sgrace@spdlc.org for more information.
URL:https://spdlc.org/event/spd-singers-2-2/2025-04-16/
CATEGORIES:High School,Middle School,Music
ATTACH;FMTTYPE=image/jpeg:https://spdlc.s3.amazonaws.com/wp-content/uploads/2024/07/IMG_1051-scaled.jpg
END:VEVENT
BEGIN:VEVENT
DTSTART;TZID=America/Chicago:20250412T080000
DTEND;TZID=America/Chicago:20250412T171500
DTSTAMP:20260420T062236
CREATED:20250318T184116Z
LAST-MODIFIED:20250318T191207Z
UID:10013171-1744444800-1744478100@spdlc.org
SUMMARY:Youth LEAD
DESCRIPTION:A Conference – For Youth\, By Youth\, With Youth\nThis is a conference led by youth\, featuring youth\, enabling and inspiring youth to lead. Chances are you are like so many others feeling like this is a year of starting all over. Starting over? Building back? Ready to move past just maintaining? \nThere are large group sessions and three workshop breakout sessions throughout the day. Youth and their leaders will participate in the large group community gatherings to get pumped up about leadership in the church. \nThese sessions are lead by youth! Then everyone will breakout into smaller workshops where you can choose what you want to learn and take back to your congregation. \nWe will celebrate all your new discoveries\, skills and ideas at the end of the day. \nFor: Grades 6-12 plus adult leaders \nApril 12\, 2025 – Bloomington\, MN (Transportation is provided.) \nMeet at St. Philip the Deacon at 8:00 AM | Return at 5:15 PM
URL:https://spdlc.org/event/youth-lead/
CATEGORIES:High School,Middle School
END:VEVENT
BEGIN:VEVENT
DTSTART;TZID=America/Chicago:20250409T171500
DTEND;TZID=America/Chicago:20250409T175500
DTSTAMP:20260420T062236
CREATED:20241218T200139Z
LAST-MODIFIED:20241218T201718Z
UID:10010815-1744218900-1744221300@spdlc.org
SUMMARY:SPD Singers
DESCRIPTION:SPD Singers is open to students in Grades 6-12 who like to have fun singing with their friends. Rehearsals are on Wednesdays from 5:15-5:55 p.m. Confirmation students can sing & still eat pizza at 6:00 p.m. on Wednesdays!  \nDownload the schedule for 2024-2025 HERE! \nContact Sam Grace at sgrace@spdlc.org for more information.
URL:https://spdlc.org/event/spd-singers-2-2/2025-04-09/
CATEGORIES:High School,Middle School,Music
ATTACH;FMTTYPE=image/jpeg:https://spdlc.s3.amazonaws.com/wp-content/uploads/2024/07/IMG_1051-scaled.jpg
END:VEVENT
BEGIN:VEVENT
DTSTART;TZID=America/Chicago:20250326T171500
DTEND;TZID=America/Chicago:20250326T175500
DTSTAMP:20260420T062236
CREATED:20241218T200139Z
LAST-MODIFIED:20241218T201718Z
UID:10010814-1743009300-1743011700@spdlc.org
SUMMARY:SPD Singers
DESCRIPTION:SPD Singers is open to students in Grades 6-12 who like to have fun singing with their friends. Rehearsals are on Wednesdays from 5:15-5:55 p.m. Confirmation students can sing & still eat pizza at 6:00 p.m. on Wednesdays!  \nDownload the schedule for 2024-2025 HERE! \nContact Sam Grace at sgrace@spdlc.org for more information.
URL:https://spdlc.org/event/spd-singers-2-2/2025-03-26/
CATEGORIES:High School,Middle School,Music
ATTACH;FMTTYPE=image/jpeg:https://spdlc.s3.amazonaws.com/wp-content/uploads/2024/07/IMG_1051-scaled.jpg
END:VEVENT
BEGIN:VEVENT
DTSTART;TZID=America/Chicago:20250319T171500
DTEND;TZID=America/Chicago:20250319T175500
DTSTAMP:20260420T062236
CREATED:20241218T200139Z
LAST-MODIFIED:20241218T201718Z
UID:10010813-1742404500-1742406900@spdlc.org
SUMMARY:SPD Singers
DESCRIPTION:SPD Singers is open to students in Grades 6-12 who like to have fun singing with their friends. Rehearsals are on Wednesdays from 5:15-5:55 p.m. Confirmation students can sing & still eat pizza at 6:00 p.m. on Wednesdays!  \nDownload the schedule for 2024-2025 HERE! \nContact Sam Grace at sgrace@spdlc.org for more information.
URL:https://spdlc.org/event/spd-singers-2-2/2025-03-19/
CATEGORIES:High School,Middle School,Music
ATTACH;FMTTYPE=image/jpeg:https://spdlc.s3.amazonaws.com/wp-content/uploads/2024/07/IMG_1051-scaled.jpg
END:VEVENT
BEGIN:VEVENT
DTSTART;TZID=America/Chicago:20250312T171500
DTEND;TZID=America/Chicago:20250312T175500
DTSTAMP:20260420T062236
CREATED:20241218T200139Z
LAST-MODIFIED:20241218T201718Z
UID:10010812-1741799700-1741802100@spdlc.org
SUMMARY:SPD Singers
DESCRIPTION:SPD Singers is open to students in Grades 6-12 who like to have fun singing with their friends. Rehearsals are on Wednesdays from 5:15-5:55 p.m. Confirmation students can sing & still eat pizza at 6:00 p.m. on Wednesdays!  \nDownload the schedule for 2024-2025 HERE! \nContact Sam Grace at sgrace@spdlc.org for more information.
URL:https://spdlc.org/event/spd-singers-2-2/2025-03-12/
CATEGORIES:High School,Middle School,Music
ATTACH;FMTTYPE=image/jpeg:https://spdlc.s3.amazonaws.com/wp-content/uploads/2024/07/IMG_1051-scaled.jpg
END:VEVENT
BEGIN:VEVENT
DTSTART;TZID=America/Chicago:20250226T193000
DTEND;TZID=America/Chicago:20250226T203000
DTSTAMP:20260420T062236
CREATED:20240718T162506Z
LAST-MODIFIED:20240718T193315Z
UID:10010877-1740598200-1740601800@spdlc.org
SUMMARY:Koin: Ministry for High Schoolers
DESCRIPTION:Koin comes from the Greek word “Koinonia” which means Christian fellowship. During these Wednesday evenings from 7:30 – 8:30 p.m. our high school youth will spend time sharing stories\, playing games\, serving our community\, Bible reflections & more. Students in 9th grade are welcome to join after their confirmation class on Wednesday evenings. Please contact Olsen Pancoast at 0pancoast@spdlc.org.  \nKoin will kick off on September 18! \nDownload the 2024-2025 KOIN schedule here!
URL:https://spdlc.org/event/koin-ministry-for-high-schoolers-2-2/2025-02-26/
CATEGORIES:High School
ATTACH;FMTTYPE=image/png:https://spdlc.org/wp-content/uploads/2021/03/SPDLC-HS-Logo.png
END:VEVENT
BEGIN:VEVENT
DTSTART;TZID=America/Chicago:20250226T171500
DTEND;TZID=America/Chicago:20250226T175500
DTSTAMP:20260420T062236
CREATED:20241218T200139Z
LAST-MODIFIED:20241218T201718Z
UID:10010811-1740590100-1740592500@spdlc.org
SUMMARY:SPD Singers
DESCRIPTION:SPD Singers is open to students in Grades 6-12 who like to have fun singing with their friends. Rehearsals are on Wednesdays from 5:15-5:55 p.m. Confirmation students can sing & still eat pizza at 6:00 p.m. on Wednesdays!  \nDownload the schedule for 2024-2025 HERE! \nContact Sam Grace at sgrace@spdlc.org for more information.
URL:https://spdlc.org/event/spd-singers-2-2/2025-02-26/
CATEGORIES:High School,Middle School,Music
ATTACH;FMTTYPE=image/jpeg:https://spdlc.s3.amazonaws.com/wp-content/uploads/2024/07/IMG_1051-scaled.jpg
END:VEVENT
BEGIN:VEVENT
DTSTART;TZID=America/Chicago:20250219T193000
DTEND;TZID=America/Chicago:20250219T203000
DTSTAMP:20260420T062236
CREATED:20240718T162506Z
LAST-MODIFIED:20240718T193315Z
UID:10010876-1739993400-1739997000@spdlc.org
SUMMARY:Koin: Ministry for High Schoolers
DESCRIPTION:Koin comes from the Greek word “Koinonia” which means Christian fellowship. During these Wednesday evenings from 7:30 – 8:30 p.m. our high school youth will spend time sharing stories\, playing games\, serving our community\, Bible reflections & more. Students in 9th grade are welcome to join after their confirmation class on Wednesday evenings. Please contact Olsen Pancoast at 0pancoast@spdlc.org.  \nKoin will kick off on September 18! \nDownload the 2024-2025 KOIN schedule here!
URL:https://spdlc.org/event/koin-ministry-for-high-schoolers-2-2/2025-02-19/
CATEGORIES:High School
ATTACH;FMTTYPE=image/png:https://spdlc.org/wp-content/uploads/2021/03/SPDLC-HS-Logo.png
END:VEVENT
BEGIN:VEVENT
DTSTART;TZID=America/Chicago:20250219T171500
DTEND;TZID=America/Chicago:20250219T175500
DTSTAMP:20260420T062236
CREATED:20241218T200139Z
LAST-MODIFIED:20241218T201718Z
UID:10010810-1739985300-1739987700@spdlc.org
SUMMARY:SPD Singers
DESCRIPTION:SPD Singers is open to students in Grades 6-12 who like to have fun singing with their friends. Rehearsals are on Wednesdays from 5:15-5:55 p.m. Confirmation students can sing & still eat pizza at 6:00 p.m. on Wednesdays!  \nDownload the schedule for 2024-2025 HERE! \nContact Sam Grace at sgrace@spdlc.org for more information.
URL:https://spdlc.org/event/spd-singers-2-2/2025-02-19/
CATEGORIES:High School,Middle School,Music
ATTACH;FMTTYPE=image/jpeg:https://spdlc.s3.amazonaws.com/wp-content/uploads/2024/07/IMG_1051-scaled.jpg
END:VEVENT
BEGIN:VEVENT
DTSTART;TZID=America/Chicago:20250216T080000
DTEND;TZID=America/Chicago:20250216T170000
DTSTAMP:20260420T062236
CREATED:20240718T163836Z
LAST-MODIFIED:20240718T163836Z
UID:10010891-1739692800-1739725200@spdlc.org
SUMMARY:Winter Retreat - High School & Middle School
DESCRIPTION:\, High School & Middle School students: Mark your calendar for the Winter Retreat\, Feb. 14 – 17\, 2025. More details to come!
URL:https://spdlc.org/event/winter-retreat-high-school-middle-school/2025-02-16/
CATEGORIES:High School,Middle School
END:VEVENT
BEGIN:VEVENT
DTSTART;TZID=America/Chicago:20250215T080000
DTEND;TZID=America/Chicago:20250215T170000
DTSTAMP:20260420T062236
CREATED:20240718T163836Z
LAST-MODIFIED:20240718T163836Z
UID:10010890-1739606400-1739638800@spdlc.org
SUMMARY:Winter Retreat - High School & Middle School
DESCRIPTION:\, High School & Middle School students: Mark your calendar for the Winter Retreat\, Feb. 14 – 17\, 2025. More details to come!
URL:https://spdlc.org/event/winter-retreat-high-school-middle-school/2025-02-15/
CATEGORIES:High School,Middle School
END:VEVENT
BEGIN:VEVENT
DTSTART;TZID=America/Chicago:20250214T080000
DTEND;TZID=America/Chicago:20250214T170000
DTSTAMP:20260420T062236
CREATED:20240718T163836Z
LAST-MODIFIED:20240718T163836Z
UID:10010889-1739520000-1739552400@spdlc.org
SUMMARY:Winter Retreat - High School & Middle School
DESCRIPTION:\, High School & Middle School students: Mark your calendar for the Winter Retreat\, Feb. 14 – 17\, 2025. More details to come!
URL:https://spdlc.org/event/winter-retreat-high-school-middle-school/2025-02-14/
CATEGORIES:High School,Middle School
END:VEVENT
BEGIN:VEVENT
DTSTART;TZID=America/Chicago:20250212T193000
DTEND;TZID=America/Chicago:20250212T203000
DTSTAMP:20260420T062236
CREATED:20240718T162506Z
LAST-MODIFIED:20240718T193315Z
UID:10010875-1739388600-1739392200@spdlc.org
SUMMARY:Koin: Ministry for High Schoolers
DESCRIPTION:Koin comes from the Greek word “Koinonia” which means Christian fellowship. During these Wednesday evenings from 7:30 – 8:30 p.m. our high school youth will spend time sharing stories\, playing games\, serving our community\, Bible reflections & more. Students in 9th grade are welcome to join after their confirmation class on Wednesday evenings. Please contact Olsen Pancoast at 0pancoast@spdlc.org.  \nKoin will kick off on September 18! \nDownload the 2024-2025 KOIN schedule here!
URL:https://spdlc.org/event/koin-ministry-for-high-schoolers-2-2/2025-02-12/
CATEGORIES:High School
ATTACH;FMTTYPE=image/png:https://spdlc.org/wp-content/uploads/2021/03/SPDLC-HS-Logo.png
END:VEVENT
BEGIN:VEVENT
DTSTART;TZID=America/Chicago:20250212T171500
DTEND;TZID=America/Chicago:20250212T175500
DTSTAMP:20260420T062236
CREATED:20241218T200139Z
LAST-MODIFIED:20241218T201718Z
UID:10010809-1739380500-1739382900@spdlc.org
SUMMARY:SPD Singers
DESCRIPTION:SPD Singers is open to students in Grades 6-12 who like to have fun singing with their friends. Rehearsals are on Wednesdays from 5:15-5:55 p.m. Confirmation students can sing & still eat pizza at 6:00 p.m. on Wednesdays!  \nDownload the schedule for 2024-2025 HERE! \nContact Sam Grace at sgrace@spdlc.org for more information.
URL:https://spdlc.org/event/spd-singers-2-2/2025-02-12/
CATEGORIES:High School,Middle School,Music
ATTACH;FMTTYPE=image/jpeg:https://spdlc.s3.amazonaws.com/wp-content/uploads/2024/07/IMG_1051-scaled.jpg
END:VEVENT
BEGIN:VEVENT
DTSTART;TZID=America/Chicago:20250205T193000
DTEND;TZID=America/Chicago:20250205T203000
DTSTAMP:20260420T062236
CREATED:20240718T162506Z
LAST-MODIFIED:20240718T193315Z
UID:10010874-1738783800-1738787400@spdlc.org
SUMMARY:Koin: Ministry for High Schoolers
DESCRIPTION:Koin comes from the Greek word “Koinonia” which means Christian fellowship. During these Wednesday evenings from 7:30 – 8:30 p.m. our high school youth will spend time sharing stories\, playing games\, serving our community\, Bible reflections & more. Students in 9th grade are welcome to join after their confirmation class on Wednesday evenings. Please contact Olsen Pancoast at 0pancoast@spdlc.org.  \nKoin will kick off on September 18! \nDownload the 2024-2025 KOIN schedule here!
URL:https://spdlc.org/event/koin-ministry-for-high-schoolers-2-2/2025-02-05/
CATEGORIES:High School
ATTACH;FMTTYPE=image/png:https://spdlc.org/wp-content/uploads/2021/03/SPDLC-HS-Logo.png
END:VEVENT
END:VCALENDAR